BEGIN:VCALENDAR
VERSION:2.0
PRODID:-//Kerk van Zunderdorp - ECPv6.15.20//NONSGML v1.0//EN
CALSCALE:GREGORIAN
METHOD:PUBLISH
X-WR-CALNAME:Kerk van Zunderdorp
X-ORIGINAL-URL:https://www.kerkzunderdorp.nl
X-WR-CALDESC:Evenementen voor Kerk van Zunderdorp
REFRESH-INTERVAL;VALUE=DURATION:PT1H
X-Robots-Tag:noindex
X-PUBLISHED-TTL:PT1H
BEGIN:VTIMEZONE
TZID:Europe/Amsterdam
BEGIN:DAYLIGHT
TZOFFSETFROM:+0100
TZOFFSETTO:+0200
TZNAME:CEST
DTSTART:20230326T010000
END:DAYLIGHT
BEGIN:STANDARD
TZOFFSETFROM:+0200
TZOFFSETTO:+0100
TZNAME:CET
DTSTART:20231029T010000
END:STANDARD
BEGIN:DAYLIGHT
TZOFFSETFROM:+0100
TZOFFSETTO:+0200
TZNAME:CEST
DTSTART:20240331T010000
END:DAYLIGHT
BEGIN:STANDARD
TZOFFSETFROM:+0200
TZOFFSETTO:+0100
TZNAME:CET
DTSTART:20241027T010000
END:STANDARD
BEGIN:DAYLIGHT
TZOFFSETFROM:+0100
TZOFFSETTO:+0200
TZNAME:CEST
DTSTART:20250330T010000
END:DAYLIGHT
BEGIN:STANDARD
TZOFFSETFROM:+0200
TZOFFSETTO:+0100
TZNAME:CET
DTSTART:20251026T010000
END:STANDARD
END:VTIMEZONE
BEGIN:VEVENT
DTSTART;VALUE=DATE:20241124
DTEND;VALUE=DATE:20241125
DTSTAMP:20260420T054638
CREATED:20240925T172140Z
LAST-MODIFIED:20240925T172140Z
UID:6485-1732406400-1732492799@www.kerkzunderdorp.nl
SUMMARY:Kerkdienst met ds. Andries Bakker - Gedachteniszondag
DESCRIPTION:Op zondag 24 november zal er om 10 uur een kerkdienst zijn met ds. Andries Bakker.
URL:https://www.kerkzunderdorp.nl/agenda/kerkdienst-met-ds-andries-bakker-gedachteniszondag/
CATEGORIES:Kerkdienst
ATTACH;FMTTYPE=image/jpeg:https://www.kerkzunderdorp.nl/wp-content/uploads/2023/11/JBZ_4199-scaled.jpg
END:VEVENT
BEGIN:VEVENT
DTSTART;VALUE=DATE:20241124
DTEND;VALUE=DATE:20241125
DTSTAMP:20260420T054638
CREATED:20241114T095217Z
LAST-MODIFIED:20241114T095217Z
UID:6544-1732406400-1732492799@www.kerkzunderdorp.nl
SUMMARY:Sint Pannekoek
DESCRIPTION:Op zondag 24 november vieren we om 11.30 uur Sint Pannekoek.
URL:https://www.kerkzunderdorp.nl/agenda/sint-pannekoek-2/
CATEGORIES:Kerkdienst
ATTACH;FMTTYPE=image/jpeg:https://www.kerkzunderdorp.nl/wp-content/uploads/2023/11/WhatsApp-Image-2023-11-26-at-13.22.43.jpeg
END:VEVENT
END:VCALENDAR