BEGIN:VCALENDAR
VERSION:2.0
PRODID:-//Kerk van Zunderdorp - ECPv6.15.20//NONSGML v1.0//EN
CALSCALE:GREGORIAN
METHOD:PUBLISH
X-ORIGINAL-URL:https://www.kerkzunderdorp.nl
X-WR-CALDESC:Evenementen voor Kerk van Zunderdorp
REFRESH-INTERVAL;VALUE=DURATION:PT1H
X-Robots-Tag:noindex
X-PUBLISHED-TTL:PT1H
BEGIN:VTIMEZONE
TZID:Europe/Amsterdam
BEGIN:DAYLIGHT
TZOFFSETFROM:+0100
TZOFFSETTO:+0200
TZNAME:CEST
DTSTART:20230326T010000
END:DAYLIGHT
BEGIN:STANDARD
TZOFFSETFROM:+0200
TZOFFSETTO:+0100
TZNAME:CET
DTSTART:20231029T010000
END:STANDARD
BEGIN:DAYLIGHT
TZOFFSETFROM:+0100
TZOFFSETTO:+0200
TZNAME:CEST
DTSTART:20240331T010000
END:DAYLIGHT
BEGIN:STANDARD
TZOFFSETFROM:+0200
TZOFFSETTO:+0100
TZNAME:CET
DTSTART:20241027T010000
END:STANDARD
BEGIN:DAYLIGHT
TZOFFSETFROM:+0100
TZOFFSETTO:+0200
TZNAME:CEST
DTSTART:20250330T010000
END:DAYLIGHT
BEGIN:STANDARD
TZOFFSETFROM:+0200
TZOFFSETTO:+0100
TZNAME:CET
DTSTART:20251026T010000
END:STANDARD
END:VTIMEZONE
BEGIN:VEVENT
DTSTART;VALUE=DATE:20241221
DTEND;VALUE=DATE:20241222
DTSTAMP:20260420T145432
CREATED:20241114T090715Z
LAST-MODIFIED:20241220T194028Z
UID:6542-1734739200-1734825599@www.kerkzunderdorp.nl
SUMMARY:Lichtjestocht
DESCRIPTION:Beleef het kerstverhaal op een unieke wijze in Zunderdorp.\nMaar liefst 1000 brandende kaarsjes zullen de straten verlichten. Tijdens de route zullen er scènes uit het kerstverhaal worden nagespeeld door mensen uit de verschillende dorpen. Ook klinken er kerstliederen. \nDe startplek is dit jaar bij de T-spitsing van de Zunderdorpergouw en de Nieuwe Gouw. De wandeling duurt ca. 50 minuten. \nDe Lichtjestocht eindigt met een sfeervol feest op het kerkplein met lekker eten. een gezellige bar en een optreden van het leerlingenorkest van de Harmonie. Speciaal voor de kinderen is een speurtocht en veel gezelligheid in de kerk. Leuk als jullie allemaal komen! \nHet is handig om met de fiets te komen en deze neer te zetten bij het startpunt! Auto’s kunnen geparkeerd worden langs de Nieuwe Gouw of op de parkeerplaats bij Only Friends.
URL:https://www.kerkzunderdorp.nl/agenda/lichtjestocht-2/
CATEGORIES:Overig
ATTACH;FMTTYPE=image/jpeg:https://www.kerkzunderdorp.nl/wp-content/uploads/2024/12/Afbeelding-van-WhatsApp-op-2024-12-20-om-10.45.19_406cd265.jpg
END:VEVENT
END:VCALENDAR