BEGIN:VCALENDAR
VERSION:2.0
PRODID:-//Kerk van Zunderdorp - ECPv6.15.20//NONSGML v1.0//EN
CALSCALE:GREGORIAN
METHOD:PUBLISH
X-WR-CALNAME:Kerk van Zunderdorp
X-ORIGINAL-URL:https://www.kerkzunderdorp.nl
X-WR-CALDESC:Evenementen voor Kerk van Zunderdorp
REFRESH-INTERVAL;VALUE=DURATION:PT1H
X-Robots-Tag:noindex
X-PUBLISHED-TTL:PT1H
BEGIN:VTIMEZONE
TZID:Europe/Amsterdam
BEGIN:DAYLIGHT
TZOFFSETFROM:+0100
TZOFFSETTO:+0200
TZNAME:CEST
DTSTART:20240331T010000
END:DAYLIGHT
BEGIN:STANDARD
TZOFFSETFROM:+0200
TZOFFSETTO:+0100
TZNAME:CET
DTSTART:20241027T010000
END:STANDARD
BEGIN:DAYLIGHT
TZOFFSETFROM:+0100
TZOFFSETTO:+0200
TZNAME:CEST
DTSTART:20250330T010000
END:DAYLIGHT
BEGIN:STANDARD
TZOFFSETFROM:+0200
TZOFFSETTO:+0100
TZNAME:CET
DTSTART:20251026T010000
END:STANDARD
BEGIN:DAYLIGHT
TZOFFSETFROM:+0100
TZOFFSETTO:+0200
TZNAME:CEST
DTSTART:20260329T010000
END:DAYLIGHT
BEGIN:STANDARD
TZOFFSETFROM:+0200
TZOFFSETTO:+0100
TZNAME:CET
DTSTART:20261025T010000
END:STANDARD
END:VTIMEZONE
BEGIN:VEVENT
DTSTART;VALUE=DATE:20250320
DTEND;VALUE=DATE:20250321
DTSTAMP:20260421T074853
CREATED:20250317T214609Z
LAST-MODIFIED:20250317T215240Z
UID:6704-1742428800-1742515199@www.kerkzunderdorp.nl
SUMMARY:Tieneravond
DESCRIPTION:Op donderdag 20 maart om 19:00 uur is het weer tijd voor een gezellige tieneravond in Zunderdorp! Dit keer is\nhet extra speciaal\, want Chantel komt voor ons koken. Dat wordt vast heel lekker!\nBen jij erbij? Heb je nog nooit meegedaan? Dit is je kans om langs te komen en het zelf te ervaren! Alle tieners\nvan 12 tot 17 jaar zijn van harte welkom. We komen elke keer met een gezellige groep bij elkaar.
URL:https://www.kerkzunderdorp.nl/agenda/tieneravond/
CATEGORIES:Overig
ATTACH;FMTTYPE=image/jpeg:https://www.kerkzunderdorp.nl/wp-content/uploads/2025/03/Tieneravond.jpg
END:VEVENT
END:VCALENDAR