BEGIN:VCALENDAR
VERSION:2.0
PRODID:-//Kerk van Zunderdorp - ECPv6.15.20//NONSGML v1.0//EN
CALSCALE:GREGORIAN
METHOD:PUBLISH
X-WR-CALNAME:Kerk van Zunderdorp
X-ORIGINAL-URL:https://www.kerkzunderdorp.nl
X-WR-CALDESC:Evenementen voor Kerk van Zunderdorp
REFRESH-INTERVAL;VALUE=DURATION:PT1H
X-Robots-Tag:noindex
X-PUBLISHED-TTL:PT1H
BEGIN:VTIMEZONE
TZID:Europe/Amsterdam
BEGIN:DAYLIGHT
TZOFFSETFROM:+0100
TZOFFSETTO:+0200
TZNAME:CEST
DTSTART:20240331T010000
END:DAYLIGHT
BEGIN:STANDARD
TZOFFSETFROM:+0200
TZOFFSETTO:+0100
TZNAME:CET
DTSTART:20241027T010000
END:STANDARD
BEGIN:DAYLIGHT
TZOFFSETFROM:+0100
TZOFFSETTO:+0200
TZNAME:CEST
DTSTART:20250330T010000
END:DAYLIGHT
BEGIN:STANDARD
TZOFFSETFROM:+0200
TZOFFSETTO:+0100
TZNAME:CET
DTSTART:20251026T010000
END:STANDARD
BEGIN:DAYLIGHT
TZOFFSETFROM:+0100
TZOFFSETTO:+0200
TZNAME:CEST
DTSTART:20260329T010000
END:DAYLIGHT
BEGIN:STANDARD
TZOFFSETFROM:+0200
TZOFFSETTO:+0100
TZNAME:CET
DTSTART:20261025T010000
END:STANDARD
END:VTIMEZONE
BEGIN:VEVENT
DTSTART;VALUE=DATE:20250413
DTEND;VALUE=DATE:20250414
DTSTAMP:20260421T091003
CREATED:20250317T210040Z
LAST-MODIFIED:20250317T211840Z
UID:6655-1744502400-1744588799@www.kerkzunderdorp.nl
SUMMARY:Kerkdienst met Rozelinde Hoogendijk - Palmpasen
DESCRIPTION:Op zondag 13 april zal er om 10 uur een kerkdienst zijn met Rozelinde Hoogendijk.
URL:https://www.kerkzunderdorp.nl/agenda/kerkdienst-met-rozelinde-hoogendijk-2/
CATEGORIES:Kerkdienst
ATTACH;FMTTYPE=image/jpeg:https://www.kerkzunderdorp.nl/wp-content/uploads/2024/11/Afbeelding-van-WhatsApp-op-2024-10-31-om-21.05.41_88b2638c.jpg
END:VEVENT
BEGIN:VEVENT
DTSTART;VALUE=DATE:20250413
DTEND;VALUE=DATE:20250414
DTSTAMP:20260421T091003
CREATED:20250317T214352Z
LAST-MODIFIED:20250317T215206Z
UID:6702-1744502400-1744588799@www.kerkzunderdorp.nl
SUMMARY:Palmpasenstokken maken
DESCRIPTION:Op zondag 13 april vieren we met elkaar Palmpasen tijdens een speciale Kliederkerk. De Kliederkerk\nstart dan voor een keer om 09:30 uur. Alle kinderen mogen zelf hun stok timmeren en versieren\nmet lekkere dingen\, takjes groen en natuurlijk een broodhaantje! Elk onderdeel heeft een speciale\nbetekenis. Rond 10:45 uur zullen we in een optocht naar de kerk lopen. Ouders mogen gezellig\nmeedoen en meehelpen. Kom je ook? Leuk! Meld je voor woensdag 9 april aan bij Anne-marie\, info@\nkerkzunderdorp.nl of via 06 4208 1177.
URL:https://www.kerkzunderdorp.nl/agenda/palmpasenstokken-maken/
CATEGORIES:Kerkdienst
ATTACH;FMTTYPE=image/jpeg:https://www.kerkzunderdorp.nl/wp-content/uploads/2025/03/Palmpasen.jpg
END:VEVENT
END:VCALENDAR