BEGIN:VCALENDAR
VERSION:2.0
PRODID:-//Kerk van Zunderdorp - ECPv6.15.20//NONSGML v1.0//EN
CALSCALE:GREGORIAN
METHOD:PUBLISH
X-WR-CALNAME:Kerk van Zunderdorp
X-ORIGINAL-URL:https://www.kerkzunderdorp.nl
X-WR-CALDESC:Evenementen voor Kerk van Zunderdorp
REFRESH-INTERVAL;VALUE=DURATION:PT1H
X-Robots-Tag:noindex
X-PUBLISHED-TTL:PT1H
BEGIN:VTIMEZONE
TZID:Europe/Amsterdam
BEGIN:DAYLIGHT
TZOFFSETFROM:+0100
TZOFFSETTO:+0200
TZNAME:CEST
DTSTART:20240331T010000
END:DAYLIGHT
BEGIN:STANDARD
TZOFFSETFROM:+0200
TZOFFSETTO:+0100
TZNAME:CET
DTSTART:20241027T010000
END:STANDARD
BEGIN:DAYLIGHT
TZOFFSETFROM:+0100
TZOFFSETTO:+0200
TZNAME:CEST
DTSTART:20250330T010000
END:DAYLIGHT
BEGIN:STANDARD
TZOFFSETFROM:+0200
TZOFFSETTO:+0100
TZNAME:CET
DTSTART:20251026T010000
END:STANDARD
BEGIN:DAYLIGHT
TZOFFSETFROM:+0100
TZOFFSETTO:+0200
TZNAME:CEST
DTSTART:20260329T010000
END:DAYLIGHT
BEGIN:STANDARD
TZOFFSETFROM:+0200
TZOFFSETTO:+0100
TZNAME:CET
DTSTART:20261025T010000
END:STANDARD
END:VTIMEZONE
BEGIN:VEVENT
DTSTART;VALUE=DATE:20250423
DTEND;VALUE=DATE:20250424
DTSTAMP:20260421T061425
CREATED:20250317T214219Z
LAST-MODIFIED:20250317T214219Z
UID:6700-1745366400-1745452799@www.kerkzunderdorp.nl
SUMMARY:Grote schoonmaak kerkgebouw
DESCRIPTION:Op 22 en 23 april wordt de kerk aan een grondige schoonmaak onderworpen en kunnen we vele\nhanden gebruiken. Leuk als je bijvoorbeeld de kerk eens van binnen wilt bekijken\, de preekstoel of het\norgel van dichtbij wilt zien of de kerkvloer wilt vegen. Wij zorgen voor koffie\, thee\, iets lekkers en een\nlunch. Dirk verzorgt ook een hoogwerker zodat we de ramen ook weer eens kunnen doen. We rekenen\nop veel hulp. We beginnen om 9.30.
URL:https://www.kerkzunderdorp.nl/agenda/grote-schoonmaak-kerkgebouw/
CATEGORIES:Overig
END:VEVENT
END:VCALENDAR