BEGIN:VCALENDAR
VERSION:2.0
PRODID:-//Kerk van Zunderdorp - ECPv6.15.20//NONSGML v1.0//EN
CALSCALE:GREGORIAN
METHOD:PUBLISH
X-WR-CALNAME:Kerk van Zunderdorp
X-ORIGINAL-URL:https://www.kerkzunderdorp.nl
X-WR-CALDESC:Evenementen voor Kerk van Zunderdorp
REFRESH-INTERVAL;VALUE=DURATION:PT1H
X-Robots-Tag:noindex
X-PUBLISHED-TTL:PT1H
BEGIN:VTIMEZONE
TZID:Europe/Amsterdam
BEGIN:DAYLIGHT
TZOFFSETFROM:+0100
TZOFFSETTO:+0200
TZNAME:CEST
DTSTART:20240331T010000
END:DAYLIGHT
BEGIN:STANDARD
TZOFFSETFROM:+0200
TZOFFSETTO:+0100
TZNAME:CET
DTSTART:20241027T010000
END:STANDARD
BEGIN:DAYLIGHT
TZOFFSETFROM:+0100
TZOFFSETTO:+0200
TZNAME:CEST
DTSTART:20250330T010000
END:DAYLIGHT
BEGIN:STANDARD
TZOFFSETFROM:+0200
TZOFFSETTO:+0100
TZNAME:CET
DTSTART:20251026T010000
END:STANDARD
BEGIN:DAYLIGHT
TZOFFSETFROM:+0100
TZOFFSETTO:+0200
TZNAME:CEST
DTSTART:20260329T010000
END:DAYLIGHT
BEGIN:STANDARD
TZOFFSETFROM:+0200
TZOFFSETTO:+0100
TZNAME:CET
DTSTART:20261025T010000
END:STANDARD
END:VTIMEZONE
BEGIN:VEVENT
DTSTART;VALUE=DATE:20250706
DTEND;VALUE=DATE:20250707
DTSTAMP:20260421T190628
CREATED:20250603T192037Z
LAST-MODIFIED:20250603T192155Z
UID:6761-1751760000-1751846399@www.kerkzunderdorp.nl
SUMMARY:Vocaal Ensemble Dwarsklank
DESCRIPTION:
URL:https://www.kerkzunderdorp.nl/agenda/vocaal-ensemble-dwarsklank/
CATEGORIES:Kerk Zunderdorp
ATTACH;FMTTYPE=image/jpeg:https://www.kerkzunderdorp.nl/wp-content/uploads/2025/06/FlyerZomers2.jpg
END:VEVENT
BEGIN:VEVENT
DTSTART;VALUE=DATE:20250706
DTEND;VALUE=DATE:20250707
DTSTAMP:20260421T190628
CREATED:20250603T192400Z
LAST-MODIFIED:20250603T192400Z
UID:6764-1751760000-1751846399@www.kerkzunderdorp.nl
SUMMARY:Kerkdienst met ds. Mirjam Muis
DESCRIPTION:Op zondag 6 juli zal er om 10 uur een kerkdienst zijn met ds. Mirjam Muis.
URL:https://www.kerkzunderdorp.nl/agenda/kerkdienst-met-ds-mirjam-muis/
CATEGORIES:Kerkdienst
ATTACH;FMTTYPE=image/jpeg:https://www.kerkzunderdorp.nl/wp-content/uploads/2024/11/Afbeelding-van-WhatsApp-op-2024-10-31-om-21.05.41_88b2638c.jpg
END:VEVENT
END:VCALENDAR