BEGIN:VCALENDAR
VERSION:2.0
PRODID:-//Kerk van Zunderdorp - ECPv6.15.20//NONSGML v1.0//EN
CALSCALE:GREGORIAN
METHOD:PUBLISH
X-ORIGINAL-URL:https://www.kerkzunderdorp.nl
X-WR-CALDESC:Evenementen voor Kerk van Zunderdorp
REFRESH-INTERVAL;VALUE=DURATION:PT1H
X-Robots-Tag:noindex
X-PUBLISHED-TTL:PT1H
BEGIN:VTIMEZONE
TZID:Europe/Amsterdam
BEGIN:DAYLIGHT
TZOFFSETFROM:+0100
TZOFFSETTO:+0200
TZNAME:CEST
DTSTART:20240331T010000
END:DAYLIGHT
BEGIN:STANDARD
TZOFFSETFROM:+0200
TZOFFSETTO:+0100
TZNAME:CET
DTSTART:20241027T010000
END:STANDARD
BEGIN:DAYLIGHT
TZOFFSETFROM:+0100
TZOFFSETTO:+0200
TZNAME:CEST
DTSTART:20250330T010000
END:DAYLIGHT
BEGIN:STANDARD
TZOFFSETFROM:+0200
TZOFFSETTO:+0100
TZNAME:CET
DTSTART:20251026T010000
END:STANDARD
BEGIN:DAYLIGHT
TZOFFSETFROM:+0100
TZOFFSETTO:+0200
TZNAME:CEST
DTSTART:20260329T010000
END:DAYLIGHT
BEGIN:STANDARD
TZOFFSETFROM:+0200
TZOFFSETTO:+0100
TZNAME:CET
DTSTART:20261025T010000
END:STANDARD
END:VTIMEZONE
BEGIN:VEVENT
DTSTART;VALUE=DATE:20251105
DTEND;VALUE=DATE:20251106
DTSTAMP:20260426T010810
CREATED:20250930T134312Z
LAST-MODIFIED:20251014T193809Z
UID:6844-1762300800-1762387199@www.kerkzunderdorp.nl
SUMMARY:Kerkdienst met ds. Leon van den Dool - Biddag voor gewas en arbeid
DESCRIPTION:Op woensdag 5 november zal er om 19.30 uur een kerkdienst zijn met ds. Leon van den Dool.
URL:https://www.kerkzunderdorp.nl/agenda/kerkdienst-met-ds-jaap-haeck-2/
CATEGORIES:Kerkdienst
END:VEVENT
BEGIN:VEVENT
DTSTART;VALUE=DATE:20251105
DTEND;VALUE=DATE:20251106
DTSTAMP:20260426T010810
CREATED:20250930T135102Z
LAST-MODIFIED:20250930T135102Z
UID:6861-1762300800-1762387199@www.kerkzunderdorp.nl
SUMMARY:Schoonmaak Jeugdgebouw
DESCRIPTION:Op woensdag 5 november ben je vanaf 09.30 uur welkom voor het schoonmaken van het jeugdgebouw.
URL:https://www.kerkzunderdorp.nl/agenda/schoonmaak-jeugdgebouw-11/
CATEGORIES:Kerk Zunderdorp
END:VEVENT
END:VCALENDAR