BEGIN:VCALENDAR
VERSION:2.0
PRODID:-//Kerk van Zunderdorp - ECPv6.15.20//NONSGML v1.0//EN
CALSCALE:GREGORIAN
METHOD:PUBLISH
X-ORIGINAL-URL:https://www.kerkzunderdorp.nl
X-WR-CALDESC:Evenementen voor Kerk van Zunderdorp
REFRESH-INTERVAL;VALUE=DURATION:PT1H
X-Robots-Tag:noindex
X-PUBLISHED-TTL:PT1H
BEGIN:VTIMEZONE
TZID:Europe/Amsterdam
BEGIN:DAYLIGHT
TZOFFSETFROM:+0100
TZOFFSETTO:+0200
TZNAME:CEST
DTSTART:20250330T010000
END:DAYLIGHT
BEGIN:STANDARD
TZOFFSETFROM:+0200
TZOFFSETTO:+0100
TZNAME:CET
DTSTART:20251026T010000
END:STANDARD
BEGIN:DAYLIGHT
TZOFFSETFROM:+0100
TZOFFSETTO:+0200
TZNAME:CEST
DTSTART:20260329T010000
END:DAYLIGHT
BEGIN:STANDARD
TZOFFSETFROM:+0200
TZOFFSETTO:+0100
TZNAME:CET
DTSTART:20261025T010000
END:STANDARD
BEGIN:DAYLIGHT
TZOFFSETFROM:+0100
TZOFFSETTO:+0200
TZNAME:CEST
DTSTART:20270328T010000
END:DAYLIGHT
BEGIN:STANDARD
TZOFFSETFROM:+0200
TZOFFSETTO:+0100
TZNAME:CET
DTSTART:20271031T010000
END:STANDARD
END:VTIMEZONE
BEGIN:VEVENT
DTSTART;VALUE=DATE:20260524
DTEND;VALUE=DATE:20260525
DTSTAMP:20260425T194959
CREATED:20260401T052119Z
LAST-MODIFIED:20260401T055451Z
UID:7191-1779580800-1779667199@www.kerkzunderdorp.nl
SUMMARY:Vlammetjes bakken op het kerkplein na de Pinksterdienst
DESCRIPTION:Pinksteren vieren we dit jaar ook feestelijk! Op Eerste Pinksterdag\, zondag 24 mei\, is er een feestelijke dienst. Om 11:00 uur gaan we ook met elkaar vlammetjes bakken op het kerkplein. Komen jullie ook?
URL:https://www.kerkzunderdorp.nl/agenda/vlammetjes-bakken-op-het-kerkplein/
CATEGORIES:Kerk Zunderdorp
END:VEVENT
BEGIN:VEVENT
DTSTART;VALUE=DATE:20260524
DTEND;VALUE=DATE:20260525
DTSTAMP:20260425T194959
CREATED:20260401T060138Z
LAST-MODIFIED:20260401T060138Z
UID:7203-1779580800-1779667199@www.kerkzunderdorp.nl
SUMMARY:Kerkdienst met Rozelinde Hoogendijk - Pinksteren
DESCRIPTION:Op zondag 24 mei is er om 10 uur een kerkdienst met Rozelinde Hoogendijk.
URL:https://www.kerkzunderdorp.nl/agenda/kerkdienst-met-rozelinde-hoogendijk-pinksteren-2/
CATEGORIES:Kerkdienst
END:VEVENT
END:VCALENDAR