BEGIN:VCALENDAR
VERSION:2.0
PRODID:-//Kerk van Zunderdorp - ECPv6.15.20//NONSGML v1.0//EN
CALSCALE:GREGORIAN
METHOD:PUBLISH
X-WR-CALNAME:Kerk van Zunderdorp
X-ORIGINAL-URL:https://www.kerkzunderdorp.nl
X-WR-CALDESC:Evenementen voor Kerk van Zunderdorp
REFRESH-INTERVAL;VALUE=DURATION:PT1H
X-Robots-Tag:noindex
X-PUBLISHED-TTL:PT1H
BEGIN:VTIMEZONE
TZID:Europe/Amsterdam
BEGIN:DAYLIGHT
TZOFFSETFROM:+0100
TZOFFSETTO:+0200
TZNAME:CEST
DTSTART:20220327T010000
END:DAYLIGHT
BEGIN:STANDARD
TZOFFSETFROM:+0200
TZOFFSETTO:+0100
TZNAME:CET
DTSTART:20221030T010000
END:STANDARD
BEGIN:DAYLIGHT
TZOFFSETFROM:+0100
TZOFFSETTO:+0200
TZNAME:CEST
DTSTART:20230326T010000
END:DAYLIGHT
BEGIN:STANDARD
TZOFFSETFROM:+0200
TZOFFSETTO:+0100
TZNAME:CET
DTSTART:20231029T010000
END:STANDARD
BEGIN:DAYLIGHT
TZOFFSETFROM:+0100
TZOFFSETTO:+0200
TZNAME:CEST
DTSTART:20240331T010000
END:DAYLIGHT
BEGIN:STANDARD
TZOFFSETFROM:+0200
TZOFFSETTO:+0100
TZNAME:CET
DTSTART:20241027T010000
END:STANDARD
BEGIN:DAYLIGHT
TZOFFSETFROM:+0100
TZOFFSETTO:+0200
TZNAME:CEST
DTSTART:20250330T010000
END:DAYLIGHT
BEGIN:STANDARD
TZOFFSETFROM:+0200
TZOFFSETTO:+0100
TZNAME:CET
DTSTART:20251026T010000
END:STANDARD
BEGIN:DAYLIGHT
TZOFFSETFROM:+0100
TZOFFSETTO:+0200
TZNAME:CEST
DTSTART:20260329T010000
END:DAYLIGHT
BEGIN:STANDARD
TZOFFSETFROM:+0200
TZOFFSETTO:+0100
TZNAME:CET
DTSTART:20261025T010000
END:STANDARD
END:VTIMEZONE
BEGIN:VEVENT
DTSTART;VALUE=DATE:20231103
DTEND;VALUE=DATE:20231104
DTSTAMP:20260420T230611
CREATED:20231024T201015Z
LAST-MODIFIED:20231024T201446Z
UID:6115-1698969600-1699055999@www.kerkzunderdorp.nl
SUMMARY:Samen eten
DESCRIPTION:Op vrijdag 3 november is er om 18.00 uur samen eten in het jeugdgebouw.
URL:https://www.kerkzunderdorp.nl/agenda/samen-eten/
CATEGORIES:Kerk Zunderdorp
ATTACH;FMTTYPE=image/jpeg:https://www.kerkzunderdorp.nl/wp-content/uploads/2023/07/Startzondag.jpg
END:VEVENT
BEGIN:VEVENT
DTSTART;VALUE=DATE:20231105
DTEND;VALUE=DATE:20231106
DTSTAMP:20260420T230611
CREATED:20231024T200818Z
LAST-MODIFIED:20231024T201759Z
UID:6112-1699142400-1699228799@www.kerkzunderdorp.nl
SUMMARY:Kliederkerk
DESCRIPTION:Op zondag 5 november is er om 12.00 uur kliederkerk.
URL:https://www.kerkzunderdorp.nl/agenda/kliederkerk-2/
CATEGORIES:Kerk Zunderdorp
ATTACH;FMTTYPE=image/jpeg:https://www.kerkzunderdorp.nl/wp-content/uploads/2023/07/Kliederkerk-homepage-scaled.jpg
END:VEVENT
BEGIN:VEVENT
DTSTART;VALUE=DATE:20231114
DTEND;VALUE=DATE:20231115
DTSTAMP:20260420T230611
CREATED:20231130T215529Z
LAST-MODIFIED:20231130T215529Z
UID:6216-1699920000-1700006399@www.kerkzunderdorp.nl
SUMMARY:Omegacursus
DESCRIPTION:Op dinsdag 14 november is er om 10.30 uur omegacursus.
URL:https://www.kerkzunderdorp.nl/agenda/omegacursus/
CATEGORIES:Kerk Zunderdorp
END:VEVENT
BEGIN:VEVENT
DTSTART;VALUE=DATE:20231122
DTEND;VALUE=DATE:20231123
DTSTAMP:20260420T230611
CREATED:20231130T212727Z
LAST-MODIFIED:20231130T212727Z
UID:6165-1700611200-1700697599@www.kerkzunderdorp.nl
SUMMARY:Koffie inloop
DESCRIPTION:Op woensdag 22 november is er om 10.00 uur een koffie inloop.
URL:https://www.kerkzunderdorp.nl/agenda/koffie-inloop-4/
CATEGORIES:Kerk Zunderdorp
ATTACH;FMTTYPE=image/jpeg:https://www.kerkzunderdorp.nl/wp-content/uploads/2023/07/Koffie-inloop-2.jpg
END:VEVENT
BEGIN:VEVENT
DTSTART;VALUE=DATE:20231126
DTEND;VALUE=DATE:20231127
DTSTAMP:20260420T230611
CREATED:20231130T214005Z
LAST-MODIFIED:20231130T214005Z
UID:6198-1700956800-1701043199@www.kerkzunderdorp.nl
SUMMARY:Sint Pannekoek
DESCRIPTION:Op zondag 26 november vieren we om 11.30 uur Sint Pannekoek.
URL:https://www.kerkzunderdorp.nl/agenda/sint-pannekoek/
CATEGORIES:Kerk Zunderdorp
ATTACH;FMTTYPE=image/jpeg:https://www.kerkzunderdorp.nl/wp-content/uploads/2023/11/WhatsApp-Image-2023-11-26-at-13.22.43.jpeg
END:VEVENT
BEGIN:VEVENT
DTSTART;VALUE=DATE:20231128
DTEND;VALUE=DATE:20231129
DTSTAMP:20260420T230611
CREATED:20231130T215604Z
LAST-MODIFIED:20231130T215604Z
UID:6218-1701129600-1701215999@www.kerkzunderdorp.nl
SUMMARY:Omegacursus
DESCRIPTION:Op dinsdag 28 november is er om 10.30 uur omegacursus.
URL:https://www.kerkzunderdorp.nl/agenda/omegacursus-2/
CATEGORIES:Kerk Zunderdorp
END:VEVENT
BEGIN:VEVENT
DTSTART;VALUE=DATE:20231204
DTEND;VALUE=DATE:20231205
DTSTAMP:20260420T230611
CREATED:20231130T213230Z
LAST-MODIFIED:20231202T165858Z
UID:6176-1701648000-1701734399@www.kerkzunderdorp.nl
SUMMARY:Geen schoonmaken jeugdgebouw
DESCRIPTION:Op dinsdag 4 december is er geen schoonmaken van het jeugdgebouw.
URL:https://www.kerkzunderdorp.nl/agenda/schoonmaken-jeugdgebouw-4/
CATEGORIES:Kerk Zunderdorp
END:VEVENT
BEGIN:VEVENT
DTSTART;VALUE=DATE:20231207
DTEND;VALUE=DATE:20231208
DTSTAMP:20260420T230611
CREATED:20231202T170105Z
LAST-MODIFIED:20231202T170105Z
UID:6224-1701907200-1701993599@www.kerkzunderdorp.nl
SUMMARY:Jeugdgebouw in kerstsfeer brengen
DESCRIPTION:Op donderdagavond 7 december gaan we jeugdgebouw in kerstsfeer brengen\, je bent vanaf 19.30 uur welkom om mee te helpen.
URL:https://www.kerkzunderdorp.nl/agenda/jeugdgebouw-in-kerstsfeer-brengen/
CATEGORIES:Kerk Zunderdorp
ATTACH;FMTTYPE=image/jpeg:https://www.kerkzunderdorp.nl/wp-content/uploads/2023/08/Pastorie.jpeg
END:VEVENT
BEGIN:VEVENT
DTSTART;VALUE=DATE:20231220
DTEND;VALUE=DATE:20231221
DTSTAMP:20260420T230611
CREATED:20231130T213114Z
LAST-MODIFIED:20231130T215130Z
UID:6170-1703030400-1703116799@www.kerkzunderdorp.nl
SUMMARY:Kerstlunch
DESCRIPTION:Op woensdag 20 december is er om 11.00 uur een kerstlunch.
URL:https://www.kerkzunderdorp.nl/agenda/kerstlunch/
CATEGORIES:Kerk Zunderdorp
ATTACH;FMTTYPE=image/jpeg:https://www.kerkzunderdorp.nl/wp-content/uploads/2023/08/Pastorie.jpeg
END:VEVENT
BEGIN:VEVENT
DTSTART;VALUE=DATE:20231223
DTEND;VALUE=DATE:20231224
DTSTAMP:20260420T230611
CREATED:20231130T214241Z
LAST-MODIFIED:20231130T214241Z
UID:6197-1703289600-1703375999@www.kerkzunderdorp.nl
SUMMARY:Lichtjestocht
DESCRIPTION:Op zaterdag 23 december is er een lichtjestocht in Zunderdorp.
URL:https://www.kerkzunderdorp.nl/agenda/lichtjestocht/
CATEGORIES:Kerk Zunderdorp
ATTACH;FMTTYPE=image/jpeg:https://www.kerkzunderdorp.nl/wp-content/uploads/2023/11/WhatsApp-Image-2023-11-09-at-21.34.18.jpeg
END:VEVENT
BEGIN:VEVENT
DTSTART;VALUE=DATE:20240108
DTEND;VALUE=DATE:20240109
DTSTAMP:20260420T230611
CREATED:20231130T213515Z
LAST-MODIFIED:20231130T213515Z
UID:6189-1704672000-1704758399@www.kerkzunderdorp.nl
SUMMARY:Schoonmaken jeugdgebouw
DESCRIPTION:Op dinsdag 8 januari ben je vanaf 09.30 uur welkom voor het schoonmaken van het jeugdgebouw.
URL:https://www.kerkzunderdorp.nl/agenda/schoonmaken-jeugdgebouw-5/
CATEGORIES:Kerk Zunderdorp
END:VEVENT
BEGIN:VEVENT
DTSTART;VALUE=DATE:20240124
DTEND;VALUE=DATE:20240125
DTSTAMP:20260420T230611
CREATED:20231130T212908Z
LAST-MODIFIED:20231130T212908Z
UID:6168-1706054400-1706140799@www.kerkzunderdorp.nl
SUMMARY:Koffie inloop
DESCRIPTION:Op woensdag 24 januari is er om 10.00 uur een koffie inloop.
URL:https://www.kerkzunderdorp.nl/agenda/koffie-inloop-5/
CATEGORIES:Kerk Zunderdorp
ATTACH;FMTTYPE=image/jpeg:https://www.kerkzunderdorp.nl/wp-content/uploads/2023/07/Koffie-inloop-2.jpg
END:VEVENT
BEGIN:VEVENT
DTSTART;VALUE=DATE:20240202
DTEND;VALUE=DATE:20240203
DTSTAMP:20260420T230611
CREATED:20240125T195131Z
LAST-MODIFIED:20240125T195237Z
UID:6282-1706832000-1706918399@www.kerkzunderdorp.nl
SUMMARY:Samen eten
DESCRIPTION:Op vrijdag 2 februari is er om 18.00 uur samen eten in het jeugdgebouw.
URL:https://www.kerkzunderdorp.nl/agenda/samen-eten-2/
CATEGORIES:Kerk Zunderdorp
ATTACH;FMTTYPE=image/jpeg:https://www.kerkzunderdorp.nl/wp-content/uploads/2023/07/Startzondag.jpg
END:VEVENT
BEGIN:VEVENT
DTSTART;VALUE=DATE:20240205
DTEND;VALUE=DATE:20240206
DTSTAMP:20260420T230611
CREATED:20240125T195347Z
LAST-MODIFIED:20240125T195347Z
UID:6284-1707091200-1707177599@www.kerkzunderdorp.nl
SUMMARY:Schoonmaken Jeugdgebouw
DESCRIPTION:Op maandag 5 februari ben je vanaf 09.30 uur welkom voor het schoonmaken van het jeugdgebouw.
URL:https://www.kerkzunderdorp.nl/agenda/schoonmaken-jeugdgebouw-6/
CATEGORIES:Kerk Zunderdorp
END:VEVENT
BEGIN:VEVENT
DTSTART;VALUE=DATE:20240211
DTEND;VALUE=DATE:20240212
DTSTAMP:20260420T230611
CREATED:20231130T214419Z
LAST-MODIFIED:20240201T194923Z
UID:6210-1707609600-1707695999@www.kerkzunderdorp.nl
SUMMARY:Kliederkerk
DESCRIPTION:Op zondag 11 februari is er om 12.00 uur kliederkerk.
URL:https://www.kerkzunderdorp.nl/agenda/kliederkerk-3/
CATEGORIES:Kerk Zunderdorp
ATTACH;FMTTYPE=image/jpeg:https://www.kerkzunderdorp.nl/wp-content/uploads/2023/07/Kliederkerk-homepage-scaled.jpg
END:VEVENT
BEGIN:VEVENT
DTSTART;VALUE=DATE:20240221
DTEND;VALUE=DATE:20240222
DTSTAMP:20260420T230611
CREATED:20240125T195518Z
LAST-MODIFIED:20240125T195518Z
UID:6286-1708473600-1708559999@www.kerkzunderdorp.nl
SUMMARY:Koffie inloop
DESCRIPTION:Op woensdag 21 februari is er om 10.00 uur een koffie inloop.
URL:https://www.kerkzunderdorp.nl/agenda/koffie-inloop-6/
CATEGORIES:Kerk Zunderdorp
ATTACH;FMTTYPE=image/jpeg:https://www.kerkzunderdorp.nl/wp-content/uploads/2023/07/Koffie-inloop-2.jpg
END:VEVENT
BEGIN:VEVENT
DTSTART;VALUE=DATE:20240304
DTEND;VALUE=DATE:20240305
DTSTAMP:20260420T230611
CREATED:20240125T195710Z
LAST-MODIFIED:20240125T195710Z
UID:6290-1709510400-1709596799@www.kerkzunderdorp.nl
SUMMARY:Schoonmaken Jeugdgebouw
DESCRIPTION:Op maandag 4 maart ben je vanaf 09.30 uur welkom voor het schoonmaken van het jeugdgebouw.
URL:https://www.kerkzunderdorp.nl/agenda/schoonmaken-jeugdgebouw-7/
CATEGORIES:Kerk Zunderdorp
END:VEVENT
BEGIN:VEVENT
DTSTART;VALUE=DATE:20240320
DTEND;VALUE=DATE:20240321
DTSTAMP:20260420T230611
CREATED:20240125T195600Z
LAST-MODIFIED:20240125T195600Z
UID:6288-1710892800-1710979199@www.kerkzunderdorp.nl
SUMMARY:Koffie inloop
DESCRIPTION:Op woensdag 20 maart is er om 10.00 uur een koffie inloop.
URL:https://www.kerkzunderdorp.nl/agenda/koffie-inloop-7/
CATEGORIES:Kerk Zunderdorp
ATTACH;FMTTYPE=image/jpeg:https://www.kerkzunderdorp.nl/wp-content/uploads/2023/07/Koffie-inloop-2.jpg
END:VEVENT
BEGIN:VEVENT
DTSTART;VALUE=DATE:20241007
DTEND;VALUE=DATE:20241008
DTSTAMP:20260420T230611
CREATED:20240925T172507Z
LAST-MODIFIED:20240925T172507Z
UID:6489-1728259200-1728345599@www.kerkzunderdorp.nl
SUMMARY:Schoonmaak Jeugdgebouw
DESCRIPTION:Op maandag 7 oktober ben je vanaf 09.30 uur welkom voor het schoonmaken van het jeugdgebouw.
URL:https://www.kerkzunderdorp.nl/agenda/schoonmaak-jeugdgebouw-5/
CATEGORIES:Kerk Zunderdorp
END:VEVENT
BEGIN:VEVENT
DTSTART;VALUE=DATE:20241023
DTEND;VALUE=DATE:20241024
DTSTAMP:20260420T230611
CREATED:20240925T172737Z
LAST-MODIFIED:20241010T201705Z
UID:6493-1729641600-1729727999@www.kerkzunderdorp.nl
SUMMARY:Koffie inloop
DESCRIPTION:Op woensdag 23 oktober is er om 10.00 uur een koffie inloop.
URL:https://www.kerkzunderdorp.nl/agenda/koffie-inloop-10/
CATEGORIES:Kerk Zunderdorp
ATTACH;FMTTYPE=image/jpeg:https://www.kerkzunderdorp.nl/wp-content/uploads/2023/07/Koffie-inloop-2.jpg
END:VEVENT
BEGIN:VEVENT
DTSTART;VALUE=DATE:20241025
DTEND;VALUE=DATE:20241026
DTSTAMP:20260420T230611
CREATED:20240925T172913Z
LAST-MODIFIED:20240925T173107Z
UID:6497-1729814400-1729900799@www.kerkzunderdorp.nl
SUMMARY:Samen eten
DESCRIPTION:Op vrijdag 25 oktober is er om 18.00 uur samen eten in het jeugdgebouw.
URL:https://www.kerkzunderdorp.nl/agenda/kliederkerk-5/
CATEGORIES:Kerk Zunderdorp,Kerkdienst
ATTACH;FMTTYPE=image/jpeg:https://www.kerkzunderdorp.nl/wp-content/uploads/2023/07/Startzondag.jpg
END:VEVENT
BEGIN:VEVENT
DTSTART;VALUE=DATE:20241105
DTEND;VALUE=DATE:20241106
DTSTAMP:20260420T230611
CREATED:20240925T172610Z
LAST-MODIFIED:20240925T172610Z
UID:6491-1730764800-1730851199@www.kerkzunderdorp.nl
SUMMARY:Schoonmaak Jeugdgebouw
DESCRIPTION:Op dinsdag 5 november ben je vanaf 09.30 uur welkom voor het schoonmaken van het jeugdgebouw.
URL:https://www.kerkzunderdorp.nl/agenda/schoonmaak-jeugdgebouw-6/
CATEGORIES:Kerk Zunderdorp
END:VEVENT
BEGIN:VEVENT
DTSTART;VALUE=DATE:20241120
DTEND;VALUE=DATE:20241121
DTSTAMP:20260420T230611
CREATED:20240925T172825Z
LAST-MODIFIED:20240925T172825Z
UID:6495-1732060800-1732147199@www.kerkzunderdorp.nl
SUMMARY:Koffie inloop
DESCRIPTION:Op woensdag 20 november is er om 10.00 uur een koffie inloop.
URL:https://www.kerkzunderdorp.nl/agenda/koffie-inloop-11/
CATEGORIES:Kerk Zunderdorp
ATTACH;FMTTYPE=image/jpeg:https://www.kerkzunderdorp.nl/wp-content/uploads/2023/07/Koffie-inloop-2.jpg
END:VEVENT
BEGIN:VEVENT
DTSTART;VALUE=DATE:20250626
DTEND;VALUE=DATE:20250627
DTSTAMP:20260420T230611
CREATED:20250603T191244Z
LAST-MODIFIED:20250603T191244Z
UID:6751-1750896000-1750982399@www.kerkzunderdorp.nl
SUMMARY:Tieneravond
DESCRIPTION:Op donderdag 26 juni is er om 19.00 uur tieneravond.
URL:https://www.kerkzunderdorp.nl/agenda/tieneravond-2/
CATEGORIES:Kerk Zunderdorp
ATTACH;FMTTYPE=image/jpeg:https://www.kerkzunderdorp.nl/wp-content/uploads/2025/03/Tieneravond.jpg
END:VEVENT
BEGIN:VEVENT
DTSTART;VALUE=DATE:20250706
DTEND;VALUE=DATE:20250707
DTSTAMP:20260420T230611
CREATED:20250603T192037Z
LAST-MODIFIED:20250603T192155Z
UID:6761-1751760000-1751846399@www.kerkzunderdorp.nl
SUMMARY:Vocaal Ensemble Dwarsklank
DESCRIPTION:
URL:https://www.kerkzunderdorp.nl/agenda/vocaal-ensemble-dwarsklank/
CATEGORIES:Kerk Zunderdorp
ATTACH;FMTTYPE=image/jpeg:https://www.kerkzunderdorp.nl/wp-content/uploads/2025/06/FlyerZomers2.jpg
END:VEVENT
BEGIN:VEVENT
DTSTART;VALUE=DATE:20250707
DTEND;VALUE=DATE:20250708
DTSTAMP:20260420T230611
CREATED:20250603T191518Z
LAST-MODIFIED:20250603T191518Z
UID:6755-1751846400-1751932799@www.kerkzunderdorp.nl
SUMMARY:Schoonmaak jeugdgebouw
DESCRIPTION:Op dinsdag 7 juli ben je vanaf 09.30 uur welkom voor het schoonmaken van het jeugdgebouw.
URL:https://www.kerkzunderdorp.nl/agenda/schoonmaak-jeugdgebouw-7/
CATEGORIES:Kerk Zunderdorp
END:VEVENT
BEGIN:VEVENT
DTSTART;VALUE=DATE:20250710
DTEND;VALUE=DATE:20250711
DTSTAMP:20260420T230611
CREATED:20250603T191330Z
LAST-MODIFIED:20250603T191330Z
UID:6753-1752105600-1752191999@www.kerkzunderdorp.nl
SUMMARY:Tieneravond
DESCRIPTION:Op donderdag 10 juli is er om 19.00 uur tieneravond.
URL:https://www.kerkzunderdorp.nl/agenda/tieneravond-3/
CATEGORIES:Kerk Zunderdorp
ATTACH;FMTTYPE=image/jpeg:https://www.kerkzunderdorp.nl/wp-content/uploads/2025/03/Tieneravond.jpg
END:VEVENT
BEGIN:VEVENT
DTSTART;VALUE=DATE:20250716
DTEND;VALUE=DATE:20250717
DTSTAMP:20260420T230611
CREATED:20250603T190912Z
LAST-MODIFIED:20250603T190912Z
UID:6744-1752624000-1752710399@www.kerkzunderdorp.nl
SUMMARY:Koffie inloop
DESCRIPTION:Op woensdag 16 juli is er om 10.00 uur een koffie inloop.
URL:https://www.kerkzunderdorp.nl/agenda/koffie-inloop-18/
CATEGORIES:Kerk Zunderdorp
ATTACH;FMTTYPE=image/jpeg:https://www.kerkzunderdorp.nl/wp-content/uploads/2023/07/Koffie-inloop-2.jpg
END:VEVENT
BEGIN:VEVENT
DTSTART;VALUE=DATE:20250804
DTEND;VALUE=DATE:20250805
DTSTAMP:20260420T230611
CREATED:20250603T191601Z
LAST-MODIFIED:20250603T191601Z
UID:6757-1754265600-1754351999@www.kerkzunderdorp.nl
SUMMARY:Schoonmaak jeugdgebouw
DESCRIPTION:Op dinsdag 4 augustus ben je vanaf 09.30 uur welkom voor het schoonmaken van het jeugdgebouw.
URL:https://www.kerkzunderdorp.nl/agenda/schoonmaak-jeugdgebouw-8/
CATEGORIES:Kerk Zunderdorp
END:VEVENT
BEGIN:VEVENT
DTSTART;VALUE=DATE:20250820
DTEND;VALUE=DATE:20250821
DTSTAMP:20260420T230611
CREATED:20250603T190954Z
LAST-MODIFIED:20250603T190954Z
UID:6746-1755648000-1755734399@www.kerkzunderdorp.nl
SUMMARY:Koffie inloop
DESCRIPTION:Op woensdag 20 augustus is er om 10.00 uur een koffie inloop.
URL:https://www.kerkzunderdorp.nl/agenda/koffie-inloop-19/
CATEGORIES:Kerk Zunderdorp
ATTACH;FMTTYPE=image/jpeg:https://www.kerkzunderdorp.nl/wp-content/uploads/2023/07/Koffie-inloop-2.jpg
END:VEVENT
END:VCALENDAR