BEGIN:VCALENDAR
VERSION:2.0
PRODID:-//Kerk van Zunderdorp - ECPv6.15.20//NONSGML v1.0//EN
CALSCALE:GREGORIAN
METHOD:PUBLISH
X-ORIGINAL-URL:https://www.kerkzunderdorp.nl
X-WR-CALDESC:Evenementen voor Kerk van Zunderdorp
REFRESH-INTERVAL;VALUE=DURATION:PT1H
X-Robots-Tag:noindex
X-PUBLISHED-TTL:PT1H
BEGIN:VTIMEZONE
TZID:Europe/Amsterdam
BEGIN:DAYLIGHT
TZOFFSETFROM:+0100
TZOFFSETTO:+0200
TZNAME:CEST
DTSTART:20240331T010000
END:DAYLIGHT
BEGIN:STANDARD
TZOFFSETFROM:+0200
TZOFFSETTO:+0100
TZNAME:CET
DTSTART:20241027T010000
END:STANDARD
BEGIN:DAYLIGHT
TZOFFSETFROM:+0100
TZOFFSETTO:+0200
TZNAME:CEST
DTSTART:20250330T010000
END:DAYLIGHT
BEGIN:STANDARD
TZOFFSETFROM:+0200
TZOFFSETTO:+0100
TZNAME:CET
DTSTART:20251026T010000
END:STANDARD
BEGIN:DAYLIGHT
TZOFFSETFROM:+0100
TZOFFSETTO:+0200
TZNAME:CEST
DTSTART:20260329T010000
END:DAYLIGHT
BEGIN:STANDARD
TZOFFSETFROM:+0200
TZOFFSETTO:+0100
TZNAME:CET
DTSTART:20261025T010000
END:STANDARD
BEGIN:DAYLIGHT
TZOFFSETFROM:+0100
TZOFFSETTO:+0200
TZNAME:CEST
DTSTART:20270328T010000
END:DAYLIGHT
BEGIN:STANDARD
TZOFFSETFROM:+0200
TZOFFSETTO:+0100
TZNAME:CET
DTSTART:20271031T010000
END:STANDARD
END:VTIMEZONE
BEGIN:VEVENT
DTSTART;VALUE=DATE:20250914
DTEND;VALUE=DATE:20250915
DTSTAMP:20260419T161747
CREATED:20250603T193323Z
LAST-MODIFIED:20250603T193323Z
UID:6786-1757808000-1757894399@www.kerkzunderdorp.nl
SUMMARY:Kerkdienst met Cor Ofman
DESCRIPTION:Op zondag 14 september zal er om 10 uur een kerkdienst zijn met Cor Ofman.
URL:https://www.kerkzunderdorp.nl/agenda/kerkdienst-met-cor-ofman-8/
CATEGORIES:Kerkdienst
ATTACH;FMTTYPE=image/jpeg:https://www.kerkzunderdorp.nl/wp-content/uploads/2024/11/Afbeelding-van-WhatsApp-op-2024-10-31-om-21.05.41_88b2638c.jpg
END:VEVENT
BEGIN:VEVENT
DTSTART;VALUE=DATE:20250921
DTEND;VALUE=DATE:20250922
DTSTAMP:20260419T161747
CREATED:20250603T193451Z
LAST-MODIFIED:20250603T193451Z
UID:6788-1758412800-1758499199@www.kerkzunderdorp.nl
SUMMARY:Kerkdienst met Tamar Karman
DESCRIPTION:Op zondag 21 september zal er om 10 uur een kerkdienst zijn met Tamar Karman.
URL:https://www.kerkzunderdorp.nl/agenda/kerkdienst-met-tamar-karman-2/
CATEGORIES:Kerkdienst
ATTACH;FMTTYPE=image/jpeg:https://www.kerkzunderdorp.nl/wp-content/uploads/2024/11/Afbeelding-van-WhatsApp-op-2024-10-31-om-21.05.41_39ecbc69.jpg
END:VEVENT
BEGIN:VEVENT
DTSTART;VALUE=DATE:20250928
DTEND;VALUE=DATE:20250929
DTSTAMP:20260419T161747
CREATED:20250603T193541Z
LAST-MODIFIED:20250922T184447Z
UID:6790-1759017600-1759103999@www.kerkzunderdorp.nl
SUMMARY:Kerkdienst met ds. Mirjam Muis
DESCRIPTION:Op zondag 28 september zal er om 10 uur een kerkdienst zijn met ds. Mirjam Muis.
URL:https://www.kerkzunderdorp.nl/agenda/kerkdienst-met-alex-de-vreugd/
CATEGORIES:Kerkdienst
END:VEVENT
BEGIN:VEVENT
DTSTART;VALUE=DATE:20251005
DTEND;VALUE=DATE:20251006
DTSTAMP:20260419T161747
CREATED:20250922T183241Z
LAST-MODIFIED:20250922T192129Z
UID:6814-1759622400-1759708799@www.kerkzunderdorp.nl
SUMMARY:Kerkdienst met Jurjen ten Brinke
DESCRIPTION:Op zondag 5 oktober zal er om 10 uur een kerkdienst zijn met Jurjen ten Brinke.
URL:https://www.kerkzunderdorp.nl/agenda/kerkdienst-met-jurjen-ten-brinke-heilig-avondmaal-2/
CATEGORIES:Kerkdienst
END:VEVENT
BEGIN:VEVENT
DTSTART;VALUE=DATE:20251012
DTEND;VALUE=DATE:20251013
DTSTAMP:20260419T161747
CREATED:20250922T183829Z
LAST-MODIFIED:20250922T184526Z
UID:6817-1760227200-1760313599@www.kerkzunderdorp.nl
SUMMARY:Kerkdienst met ds. Sjaak Teuwissen
DESCRIPTION:Op zondag 12 oktober zal er om 10 uur een kerkdienst zijn met ds. Sjaak Teuwissen.
URL:https://www.kerkzunderdorp.nl/agenda/kerkdienst-met-ds-sjaak-teuwissen-2/
CATEGORIES:Kerkdienst
END:VEVENT
BEGIN:VEVENT
DTSTART;VALUE=DATE:20251019
DTEND;VALUE=DATE:20251020
DTSTAMP:20260419T161747
CREATED:20250922T183940Z
LAST-MODIFIED:20251014T193900Z
UID:6819-1760832000-1760918399@www.kerkzunderdorp.nl
SUMMARY:Kerkdienst met ds. Mirjam Muis
DESCRIPTION:Op zondag 19 oktober zal er om 10 uur een kerkdienst zijn met ds. Mirjam Muis.
URL:https://www.kerkzunderdorp.nl/agenda/kerkdienst-met-ds-jaap-haeck/
CATEGORIES:Kerkdienst
END:VEVENT
BEGIN:VEVENT
DTSTART;VALUE=DATE:20251026
DTEND;VALUE=DATE:20251027
DTSTAMP:20260419T161747
CREATED:20250930T134103Z
LAST-MODIFIED:20250930T134103Z
UID:6840-1761436800-1761523199@www.kerkzunderdorp.nl
SUMMARY:Kerkdienst met Tamar Karman
DESCRIPTION:Op zondag 26 oktober zal er om 10 uur een kerkdienst zijn met Tamar Karman.
URL:https://www.kerkzunderdorp.nl/agenda/kerkdienst-met-tamar-karman-3/
CATEGORIES:Kerkdienst
END:VEVENT
BEGIN:VEVENT
DTSTART;VALUE=DATE:20251102
DTEND;VALUE=DATE:20251103
DTSTAMP:20260419T161747
CREATED:20250930T134212Z
LAST-MODIFIED:20251027T160415Z
UID:6842-1762041600-1762127999@www.kerkzunderdorp.nl
SUMMARY:Kerkdienst met Anna Maria van Willigen
DESCRIPTION:Op zondag 2 november zal er om 10 uur een kerkdienst zijn met Anna Maria van Willigen.
URL:https://www.kerkzunderdorp.nl/agenda/kerkdienst-met-anne-maria-van-willigen/
CATEGORIES:Kerkdienst
END:VEVENT
BEGIN:VEVENT
DTSTART;VALUE=DATE:20251105
DTEND;VALUE=DATE:20251106
DTSTAMP:20260419T161747
CREATED:20250930T134312Z
LAST-MODIFIED:20251014T193809Z
UID:6844-1762300800-1762387199@www.kerkzunderdorp.nl
SUMMARY:Kerkdienst met ds. Leon van den Dool - Biddag voor gewas en arbeid
DESCRIPTION:Op woensdag 5 november zal er om 19.30 uur een kerkdienst zijn met ds. Leon van den Dool.
URL:https://www.kerkzunderdorp.nl/agenda/kerkdienst-met-ds-jaap-haeck-2/
CATEGORIES:Kerkdienst
END:VEVENT
BEGIN:VEVENT
DTSTART;VALUE=DATE:20251109
DTEND;VALUE=DATE:20251110
DTSTAMP:20260419T161747
CREATED:20250930T134358Z
LAST-MODIFIED:20250930T134358Z
UID:6846-1762646400-1762732799@www.kerkzunderdorp.nl
SUMMARY:Kerkdienst met ds. Cor Ofman
DESCRIPTION:Op zondag 9 november zal er om 10 uur een kerkdienst zijn met ds. Cor Ofman.
URL:https://www.kerkzunderdorp.nl/agenda/kerkdienst-met-ds-cor-ofman/
CATEGORIES:Kerkdienst
END:VEVENT
BEGIN:VEVENT
DTSTART;VALUE=DATE:20251116
DTEND;VALUE=DATE:20251117
DTSTAMP:20260419T161747
CREATED:20250930T134451Z
LAST-MODIFIED:20250930T140155Z
UID:6848-1763251200-1763337599@www.kerkzunderdorp.nl
SUMMARY:Kerkdienst met ds. Peter Verhoeff
DESCRIPTION:Op zondag 16 november zal er om 10 uur een kerkdienst zijn met ds. Peter Verhoeff
URL:https://www.kerkzunderdorp.nl/agenda/kerkdienst-met-ds-pieter-verhoeff/
CATEGORIES:Kerkdienst
END:VEVENT
BEGIN:VEVENT
DTSTART;VALUE=DATE:20251123
DTEND;VALUE=DATE:20251124
DTSTAMP:20260419T161747
CREATED:20250930T134545Z
LAST-MODIFIED:20250930T134545Z
UID:6850-1763856000-1763942399@www.kerkzunderdorp.nl
SUMMARY:Kerkdienst met Tamar Karman - Gedachteniszondag
DESCRIPTION:Op zondag 23 november zal er om 10 uur een kerkdienst zijn met Tamar Karman.
URL:https://www.kerkzunderdorp.nl/agenda/kerkdienst-met-tamar-karman-gedachteniszondag/
CATEGORIES:Kerkdienst
END:VEVENT
BEGIN:VEVENT
DTSTART;VALUE=DATE:20251130
DTEND;VALUE=DATE:20251201
DTSTAMP:20260419T161747
CREATED:20250930T134646Z
LAST-MODIFIED:20250930T134646Z
UID:6852-1764460800-1764547199@www.kerkzunderdorp.nl
SUMMARY:Kerkdienst met Theodoor Meedendorp - Heilig Avondmaal
DESCRIPTION:Op zondag 30 november zal er om 10 uur een kerkdienst zijn met Theodoor Meedendorp.
URL:https://www.kerkzunderdorp.nl/agenda/kerkdienst-met-theodoor-meedendorp-heilig-avondmaal/
CATEGORIES:Kerkdienst
END:VEVENT
BEGIN:VEVENT
DTSTART;VALUE=DATE:20251207
DTEND;VALUE=DATE:20251208
DTSTAMP:20260419T161747
CREATED:20250930T134717Z
LAST-MODIFIED:20251127T130849Z
UID:6854-1765065600-1765151999@www.kerkzunderdorp.nl
SUMMARY:Kerkdienst met Tamar Karman
DESCRIPTION:Op zondag 7 december zal er om 10 uur een kerkdienst zijn met Tamar Karman.
URL:https://www.kerkzunderdorp.nl/agenda/kerkdienst-met-ds-jaap-haeck-3/
CATEGORIES:Kerkdienst
END:VEVENT
BEGIN:VEVENT
DTSTART;VALUE=DATE:20251214
DTEND;VALUE=DATE:20251215
DTSTAMP:20260419T161747
CREATED:20251117T195656Z
LAST-MODIFIED:20251117T195656Z
UID:6900-1765670400-1765756799@www.kerkzunderdorp.nl
SUMMARY:Kerkdienst met Mirjam Muis
DESCRIPTION:Op zondag 14 december zal er om 10 uur een kerkdienst zijn met ds. Mirjam Muis.
URL:https://www.kerkzunderdorp.nl/agenda/kerkdienst-met-mirjam-muis/
CATEGORIES:Kerkdienst
END:VEVENT
BEGIN:VEVENT
DTSTART;VALUE=DATE:20251221
DTEND;VALUE=DATE:20251222
DTSTAMP:20260419T161747
CREATED:20251117T195740Z
LAST-MODIFIED:20251117T195740Z
UID:6902-1766275200-1766361599@www.kerkzunderdorp.nl
SUMMARY:Kerkdienst met ds. Pieter Boomsma
DESCRIPTION:Op zondag 21 december zal er om 10 uur een kerkdienst zijn met ds. Pieter Boomsma.
URL:https://www.kerkzunderdorp.nl/agenda/kerkdienst-met-ds-pieter-boomsma-7/
CATEGORIES:Kerkdienst
END:VEVENT
BEGIN:VEVENT
DTSTART;VALUE=DATE:20251224
DTEND;VALUE=DATE:20251225
DTSTAMP:20260419T161747
CREATED:20251117T195838Z
LAST-MODIFIED:20251117T203232Z
UID:6904-1766534400-1766620799@www.kerkzunderdorp.nl
SUMMARY:Kerstavonddienst met Jefren Mesa
DESCRIPTION:Op 24 december zal er om 19.30 uur een kerkdienst zijn met Jefren Mesa.
URL:https://www.kerkzunderdorp.nl/agenda/kerstavonddienst-met-jefren-mesa/
CATEGORIES:Kerkdienst
ATTACH;FMTTYPE=image/jpeg:https://www.kerkzunderdorp.nl/wp-content/uploads/2025/11/Kerstavonddienst-Zunderdorp-2025.jpg
END:VEVENT
BEGIN:VEVENT
DTSTART;VALUE=DATE:20251225
DTEND;VALUE=DATE:20251226
DTSTAMP:20260419T161747
CREATED:20251117T200020Z
LAST-MODIFIED:20251117T203209Z
UID:6906-1766620800-1766707199@www.kerkzunderdorp.nl
SUMMARY:Kerstmusical - Stal Gouwzicht
DESCRIPTION:Op 25 december zal om 10 uur de Kerstmusical zijn in Stal Gouwzicht.
URL:https://www.kerkzunderdorp.nl/agenda/kerstmusical-stal-gouwzicht/
CATEGORIES:Kerkdienst
ATTACH;FMTTYPE=image/jpeg:https://www.kerkzunderdorp.nl/wp-content/uploads/2024/11/Afbeelding-van-WhatsApp-op-2023-12-21-om-09.24.11_fa9e2475.jpg
END:VEVENT
BEGIN:VEVENT
DTSTART;VALUE=DATE:20251228
DTEND;VALUE=DATE:20251229
DTSTAMP:20260419T161747
CREATED:20251117T200119Z
LAST-MODIFIED:20251117T200119Z
UID:6908-1766880000-1766966399@www.kerkzunderdorp.nl
SUMMARY:Kerkdienst met ds. Marco Batenburg
DESCRIPTION:Op zondag 28 december zal er om 10 uur een kerkdienst zijn met ds. Marco Batenburg.
URL:https://www.kerkzunderdorp.nl/agenda/kerkdienst-met-ds-marco-batenburg-2/
CATEGORIES:Kerkdienst
END:VEVENT
BEGIN:VEVENT
DTSTART;VALUE=DATE:20251231
DTEND;VALUE=DATE:20260101
DTSTAMP:20260419T161747
CREATED:20251117T200801Z
LAST-MODIFIED:20251117T201118Z
UID:6910-1767139200-1767225599@www.kerkzunderdorp.nl
SUMMARY:Kerkdienst met ds. Cor Ofman - Oudjaarsavond
DESCRIPTION:Op 31 december zal er om 19.30 uur een kerkdienst zijn met ds. Cor Ofman.
URL:https://www.kerkzunderdorp.nl/agenda/kerkdienst-met-cor-ofman-oudjaarsavond/
CATEGORIES:Kerkdienst
END:VEVENT
BEGIN:VEVENT
DTSTART;VALUE=DATE:20260101
DTEND;VALUE=DATE:20260102
DTSTAMP:20260419T161747
CREATED:20251117T201105Z
LAST-MODIFIED:20251117T201105Z
UID:6913-1767225600-1767311999@www.kerkzunderdorp.nl
SUMMARY:Kerkdienst met Rozelinde Hoogendijk - Nieuwjaarsdag
DESCRIPTION:Op 1 januari zal er om 10.30 uur een kerkdienst zijn met Rozelinde Hoogendijk.
URL:https://www.kerkzunderdorp.nl/agenda/kerkdienst-met-rozelinde-hoogendijk-nieuwjaarsdag-2/
CATEGORIES:Kerkdienst
END:VEVENT
BEGIN:VEVENT
DTSTART;VALUE=DATE:20260104
DTEND;VALUE=DATE:20260105
DTSTAMP:20260419T161747
CREATED:20251117T201213Z
LAST-MODIFIED:20251117T201213Z
UID:6916-1767484800-1767571199@www.kerkzunderdorp.nl
SUMMARY:Kerkdienst met Dirk Punt
DESCRIPTION:Op zondag 4 januari zal er om 10 uur een kerkdienst zijn met Dirk Punt.
URL:https://www.kerkzunderdorp.nl/agenda/kerkdienst-met-dirk-punt-3/
CATEGORIES:Kerkdienst
END:VEVENT
BEGIN:VEVENT
DTSTART;VALUE=DATE:20260111
DTEND;VALUE=DATE:20260112
DTSTAMP:20260419T161747
CREATED:20251117T201308Z
LAST-MODIFIED:20251117T201308Z
UID:6918-1768089600-1768175999@www.kerkzunderdorp.nl
SUMMARY:Kerkdienst met ds. Robert Jan van Amstel
DESCRIPTION:Op zondag 11 januari zal er om 10 uur een kerkdienst zijn met ds. Robert Jan van Amstel.
URL:https://www.kerkzunderdorp.nl/agenda/kerkdienst-met-ds-robert-jan-van-amstel-2/
CATEGORIES:Kerkdienst
END:VEVENT
BEGIN:VEVENT
DTSTART;VALUE=DATE:20260118
DTEND;VALUE=DATE:20260119
DTSTAMP:20260419T161747
CREATED:20251117T201342Z
LAST-MODIFIED:20251117T201342Z
UID:6920-1768694400-1768780799@www.kerkzunderdorp.nl
SUMMARY:Kerkdienst met ds. Andries Bakker
DESCRIPTION:Op zondag 18 januari zal er om 10 uur een kerkdienst zijn met ds. Andries Bakker
URL:https://www.kerkzunderdorp.nl/agenda/kerkdienst-met-ds-andries-bakker-7/
CATEGORIES:Kerkdienst
END:VEVENT
BEGIN:VEVENT
DTSTART;VALUE=DATE:20260125
DTEND;VALUE=DATE:20260126
DTSTAMP:20260419T161747
CREATED:20251117T201422Z
LAST-MODIFIED:20251117T201422Z
UID:6922-1769299200-1769385599@www.kerkzunderdorp.nl
SUMMARY:Kerkdienst met ds. Johan Visser
DESCRIPTION:Op zondag 25 januari zal er om 10 uur een kerkdienst zijn met ds. Johan Visser.
URL:https://www.kerkzunderdorp.nl/agenda/kerkdienst-met-ds-johan-visser-3/
CATEGORIES:Kerkdienst
END:VEVENT
BEGIN:VEVENT
DTSTART;VALUE=DATE:20260201
DTEND;VALUE=DATE:20260202
DTSTAMP:20260419T161747
CREATED:20251117T201510Z
LAST-MODIFIED:20251117T201510Z
UID:6924-1769904000-1769990399@www.kerkzunderdorp.nl
SUMMARY:Kerkdienst met ds. Sjaak Teuwissen
DESCRIPTION:Op zondag 1 februari zal er om 10 uur een kerkdienst zijn met ds. Sjaak Teuwissen.
URL:https://www.kerkzunderdorp.nl/agenda/kerkdienst-met-ds-sjaak-teuwissen-3/
CATEGORIES:Kerkdienst
END:VEVENT
BEGIN:VEVENT
DTSTART;VALUE=DATE:20260208
DTEND;VALUE=DATE:20260209
DTSTAMP:20260419T161747
CREATED:20251117T201555Z
LAST-MODIFIED:20251117T201555Z
UID:6926-1770508800-1770595199@www.kerkzunderdorp.nl
SUMMARY:Kerkdienst met Eveline Schot
DESCRIPTION:Op zondag 8 februari zal er om 10 uur een kerkdienst zijn met Eveline Schot.
URL:https://www.kerkzunderdorp.nl/agenda/kerkdienst-met-eveline-schot/
CATEGORIES:Kerkdienst
END:VEVENT
BEGIN:VEVENT
DTSTART;VALUE=DATE:20260215
DTEND;VALUE=DATE:20260216
DTSTAMP:20260419T161747
CREATED:20260122T103740Z
LAST-MODIFIED:20260122T103740Z
UID:6975-1771113600-1771199999@www.kerkzunderdorp.nl
SUMMARY:Kerkdienst met Maarten Kruimer
DESCRIPTION:Op zondag 15 februari zal er om 10 uur een kerkdienst zijn met Maarten Kruimer.
URL:https://www.kerkzunderdorp.nl/agenda/kerkdienst-met-maarten-kruimer/
CATEGORIES:Kerkdienst
END:VEVENT
BEGIN:VEVENT
DTSTART;VALUE=DATE:20260222
DTEND;VALUE=DATE:20260223
DTSTAMP:20260419T161747
CREATED:20260122T103821Z
LAST-MODIFIED:20260122T103821Z
UID:6977-1771718400-1771804799@www.kerkzunderdorp.nl
SUMMARY:Kerkdienst met ds. Mirjam Muis
DESCRIPTION:Op zondag 22 februari zal er om 10 uur een kerkdienst zijn met ds. Mirjam Muis.
URL:https://www.kerkzunderdorp.nl/agenda/kerkdienst-met-ds-mirjam-muis-2/
CATEGORIES:Kerkdienst
END:VEVENT
BEGIN:VEVENT
DTSTART;VALUE=DATE:20260301
DTEND;VALUE=DATE:20260302
DTSTAMP:20260419T161747
CREATED:20260122T103922Z
LAST-MODIFIED:20260129T203000Z
UID:6979-1772323200-1772409599@www.kerkzunderdorp.nl
SUMMARY:Kerkdienst met ds. Mirjam Muis
DESCRIPTION:Op zondag 1 maart zal er om 10 uur een kerkdienst zijn met ds. Mirjam Muis.
URL:https://www.kerkzunderdorp.nl/agenda/kerkdienst-met-tamar-karman-4/
CATEGORIES:Kerkdienst
END:VEVENT
END:VCALENDAR