BEGIN:VCALENDAR
VERSION:2.0
PRODID:-//Kerk van Zunderdorp - ECPv6.15.20//NONSGML v1.0//EN
CALSCALE:GREGORIAN
METHOD:PUBLISH
X-ORIGINAL-URL:https://www.kerkzunderdorp.nl
X-WR-CALDESC:Evenementen voor Kerk van Zunderdorp
REFRESH-INTERVAL;VALUE=DURATION:PT1H
X-Robots-Tag:noindex
X-PUBLISHED-TTL:PT1H
BEGIN:VTIMEZONE
TZID:Europe/Amsterdam
BEGIN:DAYLIGHT
TZOFFSETFROM:+0100
TZOFFSETTO:+0200
TZNAME:CEST
DTSTART:20250330T010000
END:DAYLIGHT
BEGIN:STANDARD
TZOFFSETFROM:+0200
TZOFFSETTO:+0100
TZNAME:CET
DTSTART:20251026T010000
END:STANDARD
BEGIN:DAYLIGHT
TZOFFSETFROM:+0100
TZOFFSETTO:+0200
TZNAME:CEST
DTSTART:20260329T010000
END:DAYLIGHT
BEGIN:STANDARD
TZOFFSETFROM:+0200
TZOFFSETTO:+0100
TZNAME:CET
DTSTART:20261025T010000
END:STANDARD
BEGIN:DAYLIGHT
TZOFFSETFROM:+0100
TZOFFSETTO:+0200
TZNAME:CEST
DTSTART:20270328T010000
END:DAYLIGHT
BEGIN:STANDARD
TZOFFSETFROM:+0200
TZOFFSETTO:+0100
TZNAME:CET
DTSTART:20271031T010000
END:STANDARD
END:VTIMEZONE
BEGIN:VEVENT
DTSTART;VALUE=DATE:20260403
DTEND;VALUE=DATE:20260404
DTSTAMP:20260419T211321
CREATED:20260122T104429Z
LAST-MODIFIED:20260122T104720Z
UID:6994-1775174400-1775260799@www.kerkzunderdorp.nl
SUMMARY:Kerkdienst met Rozelinde Hoogendijk - Goede Vrijdag
DESCRIPTION:Op vrijdag 3 april zal er om 19.30 uur een kerkdienst zijn met Rozelinde Hoogendijk.
URL:https://www.kerkzunderdorp.nl/agenda/kerkdienst-met-rozelinde-hoogendijk-goede-vrijdag/
CATEGORIES:Kerkdienst
END:VEVENT
BEGIN:VEVENT
DTSTART;VALUE=DATE:20260404
DTEND;VALUE=DATE:20260405
DTSTAMP:20260419T211321
CREATED:20260122T104453Z
LAST-MODIFIED:20260401T050025Z
UID:6996-1775260800-1775347199@www.kerkzunderdorp.nl
SUMMARY:Kerkdienst - Stille Zaterdag
DESCRIPTION:Op zaterdag 4 april zal er om 20.30 uur een kerkdienst zijn.
URL:https://www.kerkzunderdorp.nl/agenda/kerkdienst-met-tamar-karman-stille-zaterdag/
CATEGORIES:Kerkdienst
END:VEVENT
BEGIN:VEVENT
DTSTART;VALUE=DATE:20260405
DTEND;VALUE=DATE:20260406
DTSTAMP:20260419T211321
CREATED:20260122T104540Z
LAST-MODIFIED:20260122T104540Z
UID:6998-1775347200-1775433599@www.kerkzunderdorp.nl
SUMMARY:Kerkdienst met Arnold Zwemer - Pasen
DESCRIPTION:Op zondag 5 april zal er om 10 uur een kerkdienst zijn met Arnold Zwemer.
URL:https://www.kerkzunderdorp.nl/agenda/kerkdienst-met-arnold-zwemer-pasen/
CATEGORIES:Kerkdienst
END:VEVENT
BEGIN:VEVENT
DTSTART;VALUE=DATE:20260412
DTEND;VALUE=DATE:20260413
DTSTAMP:20260419T211321
CREATED:20260401T050142Z
LAST-MODIFIED:20260401T050213Z
UID:7166-1775952000-1776038399@www.kerkzunderdorp.nl
SUMMARY:Kerkdienst met Eva Bruggeman
DESCRIPTION:Op zondag 12 april zal er om 10 uur een kerkdienst zijn met ds. Eva Bruggeman.
URL:https://www.kerkzunderdorp.nl/agenda/kerkdienst-met-eva-bruggeman/
CATEGORIES:Kerkdienst
END:VEVENT
BEGIN:VEVENT
DTSTART;VALUE=DATE:20260419
DTEND;VALUE=DATE:20260420
DTSTAMP:20260419T211321
CREATED:20260401T050542Z
LAST-MODIFIED:20260401T050542Z
UID:7169-1776556800-1776643199@www.kerkzunderdorp.nl
SUMMARY:Kerkdienst met ds. Pieter Boomsma
DESCRIPTION:Op 19 april is er om 10 uur een kerkdienst met ds. Pieter Boomsma.
URL:https://www.kerkzunderdorp.nl/agenda/kerkdienst-met-ds-pieter-boomsma-9/
CATEGORIES:Kerkdienst
END:VEVENT
BEGIN:VEVENT
DTSTART;VALUE=DATE:20260426
DTEND;VALUE=DATE:20260427
DTSTAMP:20260419T211321
CREATED:20260401T050717Z
LAST-MODIFIED:20260401T050717Z
UID:7172-1777161600-1777247999@www.kerkzunderdorp.nl
SUMMARY:Kerkdienst met Theodoor Meedendorp - Staldienst Stadshoeve
DESCRIPTION:Op 26 april is er om 10.30 uur een kerkdienst met Theodoor Meedendorp.
URL:https://www.kerkzunderdorp.nl/agenda/kerkdienst-met-theodoor-meedendorp-staldienst-stadshoeve/
CATEGORIES:Kerkdienst
END:VEVENT
BEGIN:VEVENT
DTSTART;VALUE=DATE:20260503
DTEND;VALUE=DATE:20260504
DTSTAMP:20260419T211321
CREATED:20260401T055652Z
LAST-MODIFIED:20260401T055652Z
UID:7195-1777766400-1777852799@www.kerkzunderdorp.nl
SUMMARY:Kerkdienst met Eveline Schot
DESCRIPTION:Op zondag 3 mei is er om 10 uur een kerkdienst met Eveline Schot.
URL:https://www.kerkzunderdorp.nl/agenda/kerkdienst-met-eveline-schot-2/
CATEGORIES:Kerkdienst
END:VEVENT
BEGIN:VEVENT
DTSTART;VALUE=DATE:20260510
DTEND;VALUE=DATE:20260511
DTSTAMP:20260419T211321
CREATED:20260401T055753Z
LAST-MODIFIED:20260401T055753Z
UID:7197-1778371200-1778457599@www.kerkzunderdorp.nl
SUMMARY:Kerkdienst met Dirk Punt
DESCRIPTION:Op zondag 10 mei is er om 10 uur een kerkdienst met Dirk Punt.
URL:https://www.kerkzunderdorp.nl/agenda/kerkdienst-met-dirk-punt-4/
CATEGORIES:Kerkdienst
END:VEVENT
BEGIN:VEVENT
DTSTART;VALUE=DATE:20260514
DTEND;VALUE=DATE:20260515
DTSTAMP:20260419T211321
CREATED:20260401T052013Z
LAST-MODIFIED:20260403T152913Z
UID:7189-1778716800-1778803199@www.kerkzunderdorp.nl
SUMMARY:Een Hemels Feestje voor Stad en Land!
DESCRIPTION:Hemelvaartsdag\, donderdag 14 mei\, organiseren we een gezellige middag op de Stadshoeve voor jong en oud. Iedereen uit stad en land is van harte welkom! \nVanaf 13.00 uur – Inloop met koffie en thee\n14.00 uur – Muziek van Sarah Floor & Band\nSpreker: Jefren Mesa \nNa het programma zijn er:\nHeerlijke poffertjes\nEen glaasje frisdrank\nVoor de kinderen zijn er ook leuke spelletjes! \nDeze middag organiseren we ten bate van het Waterlands Project voor Gambia.\nKom langs\, geniet van muziek en gezelligheid en steun tegelijk een mooi doel!
URL:https://www.kerkzunderdorp.nl/agenda/een-hemels-feestje-voor-stad-en-land/
CATEGORIES:Kerkdienst
END:VEVENT
BEGIN:VEVENT
DTSTART;VALUE=DATE:20260514
DTEND;VALUE=DATE:20260515
DTSTAMP:20260419T211321
CREATED:20260401T055924Z
LAST-MODIFIED:20260401T055924Z
UID:7199-1778716800-1778803199@www.kerkzunderdorp.nl
SUMMARY:Kerkdienst met ds. Marco Batenburg - Hemelvaart
DESCRIPTION:Op donderdag 14 mei is er om 10 uur een kerkdienst met ds. Marco Batenburg.
URL:https://www.kerkzunderdorp.nl/agenda/kerkdienst-met-ds-marco-batenburg-hemelvaart/
CATEGORIES:Kerkdienst
END:VEVENT
BEGIN:VEVENT
DTSTART;VALUE=DATE:20260517
DTEND;VALUE=DATE:20260518
DTSTAMP:20260419T211321
CREATED:20260401T060026Z
LAST-MODIFIED:20260401T060026Z
UID:7201-1778976000-1779062399@www.kerkzunderdorp.nl
SUMMARY:Kerkdienst met Cor Ofman
DESCRIPTION:Op zondag 17 mei is er om 10 uur een kerkdienst met Cor Ofman.
URL:https://www.kerkzunderdorp.nl/agenda/kerkdienst-met-cor-ofman-9/
CATEGORIES:Kerkdienst
END:VEVENT
BEGIN:VEVENT
DTSTART;VALUE=DATE:20260524
DTEND;VALUE=DATE:20260525
DTSTAMP:20260419T211321
CREATED:20260401T060138Z
LAST-MODIFIED:20260401T060138Z
UID:7203-1779580800-1779667199@www.kerkzunderdorp.nl
SUMMARY:Kerkdienst met Rozelinde Hoogendijk - Pinksteren
DESCRIPTION:Op zondag 24 mei is er om 10 uur een kerkdienst met Rozelinde Hoogendijk.
URL:https://www.kerkzunderdorp.nl/agenda/kerkdienst-met-rozelinde-hoogendijk-pinksteren-2/
CATEGORIES:Kerkdienst
END:VEVENT
BEGIN:VEVENT
DTSTART;VALUE=DATE:20260531
DTEND;VALUE=DATE:20260601
DTSTAMP:20260419T211321
CREATED:20260401T060300Z
LAST-MODIFIED:20260401T060335Z
UID:7205-1780185600-1780271999@www.kerkzunderdorp.nl
SUMMARY:Kerkdienst met Jeffry van Elst
DESCRIPTION:Op zondag 31 mei is er om 10 uur een kerkdienst met Effry van Elst.
URL:https://www.kerkzunderdorp.nl/agenda/kerkdienst-met-jeffry-van-elst/
CATEGORIES:Kerkdienst
END:VEVENT
BEGIN:VEVENT
DTSTART;VALUE=DATE:20260607
DTEND;VALUE=DATE:20260608
DTSTAMP:20260419T211321
CREATED:20260401T060441Z
LAST-MODIFIED:20260401T060441Z
UID:7207-1780790400-1780876799@www.kerkzunderdorp.nl
SUMMARY:Kerkdienst met Tamar Karman
DESCRIPTION:Op zondag 7 juni is er om 10 uur een kerkdienst met Tamar Karman.
URL:https://www.kerkzunderdorp.nl/agenda/kerkdienst-met-tamar-karman-5/
CATEGORIES:Kerkdienst
END:VEVENT
BEGIN:VEVENT
DTSTART;VALUE=DATE:20260614
DTEND;VALUE=DATE:20260615
DTSTAMP:20260419T211321
CREATED:20260401T060728Z
LAST-MODIFIED:20260401T060728Z
UID:7211-1781395200-1781481599@www.kerkzunderdorp.nl
SUMMARY:Kerkdienst met ds. Andries Bakker - Heilig Avondmaal
DESCRIPTION:Op zondag 14 juni is er om 10 uur een kerkdienst met ds. Andries Bakker.
URL:https://www.kerkzunderdorp.nl/agenda/kerkdienst-met-ds-andries-bakker-heilig-avondmaal/
CATEGORIES:Kerkdienst
END:VEVENT
BEGIN:VEVENT
DTSTART;VALUE=DATE:20260621
DTEND;VALUE=DATE:20260622
DTSTAMP:20260419T211321
CREATED:20260401T060554Z
LAST-MODIFIED:20260401T060554Z
UID:7209-1782000000-1782086399@www.kerkzunderdorp.nl
SUMMARY:Kerkdienst met Eveline Schot
DESCRIPTION:Op zondag 21 juni is er om 10 uur een kerkdienst met Eveline Schot.
URL:https://www.kerkzunderdorp.nl/agenda/kerkdienst-met-eveline-schot-3/
CATEGORIES:Kerkdienst
END:VEVENT
END:VCALENDAR