BEGIN:VCALENDAR
VERSION:2.0
PRODID:-//Kerk van Zunderdorp - ECPv6.15.20//NONSGML v1.0//EN
CALSCALE:GREGORIAN
METHOD:PUBLISH
X-WR-CALNAME:Kerk van Zunderdorp
X-ORIGINAL-URL:https://www.kerkzunderdorp.nl
X-WR-CALDESC:Evenementen voor Kerk van Zunderdorp
REFRESH-INTERVAL;VALUE=DURATION:PT1H
X-Robots-Tag:noindex
X-PUBLISHED-TTL:PT1H
BEGIN:VTIMEZONE
TZID:Europe/Amsterdam
BEGIN:DAYLIGHT
TZOFFSETFROM:+0100
TZOFFSETTO:+0200
TZNAME:CEST
DTSTART:20230326T010000
END:DAYLIGHT
BEGIN:STANDARD
TZOFFSETFROM:+0200
TZOFFSETTO:+0100
TZNAME:CET
DTSTART:20231029T010000
END:STANDARD
BEGIN:DAYLIGHT
TZOFFSETFROM:+0100
TZOFFSETTO:+0200
TZNAME:CEST
DTSTART:20240331T010000
END:DAYLIGHT
BEGIN:STANDARD
TZOFFSETFROM:+0200
TZOFFSETTO:+0100
TZNAME:CET
DTSTART:20241027T010000
END:STANDARD
BEGIN:DAYLIGHT
TZOFFSETFROM:+0100
TZOFFSETTO:+0200
TZNAME:CEST
DTSTART:20250330T010000
END:DAYLIGHT
BEGIN:STANDARD
TZOFFSETFROM:+0200
TZOFFSETTO:+0100
TZNAME:CET
DTSTART:20251026T010000
END:STANDARD
END:VTIMEZONE
BEGIN:VEVENT
DTSTART;VALUE=DATE:20240804
DTEND;VALUE=DATE:20240805
DTSTAMP:20260420T022732
CREATED:20240527T143354Z
LAST-MODIFIED:20240527T143354Z
UID:6359-1722729600-1722815999@www.kerkzunderdorp.nl
SUMMARY:Kerkdienst met Cor Ofman
DESCRIPTION:Op zondag 4 augustus zal er om 10.00 uur een kerkdienst zijn met Cor Ofman.
URL:https://www.kerkzunderdorp.nl/agenda/kerkdienst-met-cor-ofman-2/
CATEGORIES:Kerkdienst
ATTACH;FMTTYPE=image/jpeg:https://www.kerkzunderdorp.nl/wp-content/uploads/2023/11/JBZ_4197-scaled.jpg
END:VEVENT
BEGIN:VEVENT
DTSTART;VALUE=DATE:20240805
DTEND;VALUE=DATE:20240806
DTSTAMP:20260420T022733
CREATED:20240527T144738Z
LAST-MODIFIED:20240527T144738Z
UID:6380-1722816000-1722902399@www.kerkzunderdorp.nl
SUMMARY:Schoonmaak jeugdgebouw
DESCRIPTION:Op maandag 5 augustus ben je vanaf 09.30 uur welkom voor het schoonmaken van het jeugdgebouw.
URL:https://www.kerkzunderdorp.nl/agenda/schoonmaak-jeugdgebouw-3/
CATEGORIES:Overig
END:VEVENT
BEGIN:VEVENT
DTSTART;VALUE=DATE:20240811
DTEND;VALUE=DATE:20240812
DTSTAMP:20260420T022733
CREATED:20240527T143452Z
LAST-MODIFIED:20240527T143452Z
UID:6361-1723334400-1723420799@www.kerkzunderdorp.nl
SUMMARY:Kerkdienst met ds. Niek Scholten
DESCRIPTION:Op zondag 11 augustus is er om 10.00 uur een kerkdienst met ds. Niek Scholten.
URL:https://www.kerkzunderdorp.nl/agenda/kerkdienst-met-ds-niek-scholten/
CATEGORIES:Kerkdienst
END:VEVENT
BEGIN:VEVENT
DTSTART;VALUE=DATE:20240815
DTEND;VALUE=DATE:20240816
DTSTAMP:20260420T022733
CREATED:20240527T145206Z
LAST-MODIFIED:20240527T145210Z
UID:6388-1723680000-1723766399@www.kerkzunderdorp.nl
SUMMARY:Koffie inloop
DESCRIPTION:Op woensdag 15 augustus is er om 10.00 uur een koffie inloop.
URL:https://www.kerkzunderdorp.nl/agenda/koffie-inloopt/
CATEGORIES:Overig
ATTACH;FMTTYPE=image/jpeg:https://www.kerkzunderdorp.nl/wp-content/uploads/2023/07/Koffie-inloop-2.jpg
END:VEVENT
BEGIN:VEVENT
DTSTART;VALUE=DATE:20240818
DTEND;VALUE=DATE:20240819
DTSTAMP:20260420T022733
CREATED:20240527T143543Z
LAST-MODIFIED:20240721T061426Z
UID:6363-1723939200-1724025599@www.kerkzunderdorp.nl
SUMMARY:Kerkdienst met ds. Taco Koster
DESCRIPTION:Op zondag 18 augustus is er om 10.00 uur een kerkdienst met ds. Taco Koster
URL:https://www.kerkzunderdorp.nl/agenda/kerkdienst-12/
CATEGORIES:Kerkdienst
ATTACH;FMTTYPE=image/jpeg:https://www.kerkzunderdorp.nl/wp-content/uploads/2023/11/JBZ_4199-scaled.jpg
END:VEVENT
BEGIN:VEVENT
DTSTART;VALUE=DATE:20240825
DTEND;VALUE=DATE:20240826
DTSTAMP:20260420T022733
CREATED:20240527T143748Z
LAST-MODIFIED:20240527T143748Z
UID:6365-1724544000-1724630399@www.kerkzunderdorp.nl
SUMMARY:Kerkdienst met ds. Alexander Noordijk - Heilig Avondmaal
DESCRIPTION:Op zondag 25 augustus is er om 10.00 uur een kerkdienst met ds. Alexander Noordijk.
URL:https://www.kerkzunderdorp.nl/agenda/kerkdienst-met-ds-alexander-noordijk-heilig-avondmaal/
CATEGORIES:Kerkdienst
ATTACH;FMTTYPE=image/jpeg:https://www.kerkzunderdorp.nl/wp-content/uploads/2023/11/JBZ_4199-scaled.jpg
END:VEVENT
END:VCALENDAR