BEGIN:VCALENDAR
VERSION:2.0
PRODID:-//Kerk van Zunderdorp - ECPv6.15.20//NONSGML v1.0//EN
CALSCALE:GREGORIAN
METHOD:PUBLISH
X-ORIGINAL-URL:https://www.kerkzunderdorp.nl
X-WR-CALDESC:Evenementen voor Kerk van Zunderdorp
REFRESH-INTERVAL;VALUE=DURATION:PT1H
X-Robots-Tag:noindex
X-PUBLISHED-TTL:PT1H
BEGIN:VTIMEZONE
TZID:Europe/Amsterdam
BEGIN:DAYLIGHT
TZOFFSETFROM:+0100
TZOFFSETTO:+0200
TZNAME:CEST
DTSTART:20230326T010000
END:DAYLIGHT
BEGIN:STANDARD
TZOFFSETFROM:+0200
TZOFFSETTO:+0100
TZNAME:CET
DTSTART:20231029T010000
END:STANDARD
BEGIN:DAYLIGHT
TZOFFSETFROM:+0100
TZOFFSETTO:+0200
TZNAME:CEST
DTSTART:20240331T010000
END:DAYLIGHT
BEGIN:STANDARD
TZOFFSETFROM:+0200
TZOFFSETTO:+0100
TZNAME:CET
DTSTART:20241027T010000
END:STANDARD
BEGIN:DAYLIGHT
TZOFFSETFROM:+0100
TZOFFSETTO:+0200
TZNAME:CEST
DTSTART:20250330T010000
END:DAYLIGHT
BEGIN:STANDARD
TZOFFSETFROM:+0200
TZOFFSETTO:+0100
TZNAME:CET
DTSTART:20251026T010000
END:STANDARD
END:VTIMEZONE
BEGIN:VEVENT
DTSTART;VALUE=DATE:20241006
DTEND;VALUE=DATE:20241007
DTSTAMP:20260420T010355
CREATED:20240925T170938Z
LAST-MODIFIED:20240925T171533Z
UID:6469-1728172800-1728259199@www.kerkzunderdorp.nl
SUMMARY:Kerkdienst met Dirk Punt
DESCRIPTION:Op zondag 6 oktober zal er om 10 uur een kerkdienst zijn met Dirk Punt.
URL:https://www.kerkzunderdorp.nl/agenda/kerkdienst-met-dirk-punt/
CATEGORIES:Kerkdienst
ATTACH;FMTTYPE=image/jpeg:https://www.kerkzunderdorp.nl/wp-content/uploads/2023/11/JBZ_4199-scaled.jpg
END:VEVENT
BEGIN:VEVENT
DTSTART;VALUE=DATE:20241007
DTEND;VALUE=DATE:20241008
DTSTAMP:20260420T010355
CREATED:20240925T172507Z
LAST-MODIFIED:20240925T172507Z
UID:6489-1728259200-1728345599@www.kerkzunderdorp.nl
SUMMARY:Schoonmaak Jeugdgebouw
DESCRIPTION:Op maandag 7 oktober ben je vanaf 09.30 uur welkom voor het schoonmaken van het jeugdgebouw.
URL:https://www.kerkzunderdorp.nl/agenda/schoonmaak-jeugdgebouw-5/
CATEGORIES:Kerk Zunderdorp
END:VEVENT
BEGIN:VEVENT
DTSTART;VALUE=DATE:20241013
DTEND;VALUE=DATE:20241014
DTSTAMP:20260420T010355
CREATED:20240925T171058Z
LAST-MODIFIED:20240925T171510Z
UID:6471-1728777600-1728863999@www.kerkzunderdorp.nl
SUMMARY:Kerkdienst met Cor Ofman
DESCRIPTION:Op zondag 13 oktober zal er om 10 uur een kerkdienst zijn met Cor Ofman.
URL:https://www.kerkzunderdorp.nl/agenda/kerkdienst-met-cor-ofman-3/
CATEGORIES:Kerkdienst
ATTACH;FMTTYPE=image/jpeg:https://www.kerkzunderdorp.nl/wp-content/uploads/2023/11/JBZ_4238-1-scaled.jpg
END:VEVENT
BEGIN:VEVENT
DTSTART;VALUE=DATE:20241020
DTEND;VALUE=DATE:20241021
DTSTAMP:20260420T010355
CREATED:20240925T171253Z
LAST-MODIFIED:20240925T171449Z
UID:6473-1729382400-1729468799@www.kerkzunderdorp.nl
SUMMARY:Kerkdienst met Vincent Benjamin
DESCRIPTION:Op zondag 20 oktober  zal er om 10 uur een kerkdienst zijn met Vincent Benjamin.
URL:https://www.kerkzunderdorp.nl/agenda/kerkdienst-met-vincent-benjamin/
CATEGORIES:Kerkdienst
ATTACH;FMTTYPE=image/jpeg:https://www.kerkzunderdorp.nl/wp-content/uploads/2023/11/JBZ_4199-scaled.jpg
END:VEVENT
BEGIN:VEVENT
DTSTART;VALUE=DATE:20241023
DTEND;VALUE=DATE:20241024
DTSTAMP:20260420T010355
CREATED:20240925T172737Z
LAST-MODIFIED:20241010T201705Z
UID:6493-1729641600-1729727999@www.kerkzunderdorp.nl
SUMMARY:Koffie inloop
DESCRIPTION:Op woensdag 23 oktober is er om 10.00 uur een koffie inloop.
URL:https://www.kerkzunderdorp.nl/agenda/koffie-inloop-10/
CATEGORIES:Kerk Zunderdorp
ATTACH;FMTTYPE=image/jpeg:https://www.kerkzunderdorp.nl/wp-content/uploads/2023/07/Koffie-inloop-2.jpg
END:VEVENT
BEGIN:VEVENT
DTSTART;VALUE=DATE:20241025
DTEND;VALUE=DATE:20241026
DTSTAMP:20260420T010355
CREATED:20240925T172913Z
LAST-MODIFIED:20240925T173107Z
UID:6497-1729814400-1729900799@www.kerkzunderdorp.nl
SUMMARY:Samen eten
DESCRIPTION:Op vrijdag 25 oktober is er om 18.00 uur samen eten in het jeugdgebouw.
URL:https://www.kerkzunderdorp.nl/agenda/kliederkerk-5/
CATEGORIES:Kerk Zunderdorp,Kerkdienst
ATTACH;FMTTYPE=image/jpeg:https://www.kerkzunderdorp.nl/wp-content/uploads/2023/07/Startzondag.jpg
END:VEVENT
BEGIN:VEVENT
DTSTART;VALUE=DATE:20241027
DTEND;VALUE=DATE:20241028
DTSTAMP:20260420T010355
CREATED:20240925T171354Z
LAST-MODIFIED:20240925T171354Z
UID:6475-1729987200-1730073599@www.kerkzunderdorp.nl
SUMMARY:Kerkdienst met ds. Pieter Boomsma
DESCRIPTION:Op zondag 27 oktober zal er om 10 uur een kerkdienst zijn met ds. Pieter Boomsma.
URL:https://www.kerkzunderdorp.nl/agenda/kerkdienst-met-ds-pieter-boomsma-3/
CATEGORIES:Kerkdienst
ATTACH;FMTTYPE=image/jpeg:https://www.kerkzunderdorp.nl/wp-content/uploads/2023/11/JBZ_4238-1-scaled.jpg
END:VEVENT
END:VCALENDAR