BEGIN:VCALENDAR
VERSION:2.0
PRODID:-//Kerk van Zunderdorp - ECPv6.15.20//NONSGML v1.0//EN
CALSCALE:GREGORIAN
METHOD:PUBLISH
X-WR-CALNAME:Kerk van Zunderdorp
X-ORIGINAL-URL:https://www.kerkzunderdorp.nl
X-WR-CALDESC:Evenementen voor Kerk van Zunderdorp
REFRESH-INTERVAL;VALUE=DURATION:PT1H
X-Robots-Tag:noindex
X-PUBLISHED-TTL:PT1H
BEGIN:VTIMEZONE
TZID:Europe/Amsterdam
BEGIN:DAYLIGHT
TZOFFSETFROM:+0100
TZOFFSETTO:+0200
TZNAME:CEST
DTSTART:20240331T010000
END:DAYLIGHT
BEGIN:STANDARD
TZOFFSETFROM:+0200
TZOFFSETTO:+0100
TZNAME:CET
DTSTART:20241027T010000
END:STANDARD
BEGIN:DAYLIGHT
TZOFFSETFROM:+0100
TZOFFSETTO:+0200
TZNAME:CEST
DTSTART:20250330T010000
END:DAYLIGHT
BEGIN:STANDARD
TZOFFSETFROM:+0200
TZOFFSETTO:+0100
TZNAME:CET
DTSTART:20251026T010000
END:STANDARD
BEGIN:DAYLIGHT
TZOFFSETFROM:+0100
TZOFFSETTO:+0200
TZNAME:CEST
DTSTART:20260329T010000
END:DAYLIGHT
BEGIN:STANDARD
TZOFFSETFROM:+0200
TZOFFSETTO:+0100
TZNAME:CET
DTSTART:20261025T010000
END:STANDARD
END:VTIMEZONE
BEGIN:VEVENT
DTSTART;VALUE=DATE:20250504
DTEND;VALUE=DATE:20250505
DTSTAMP:20260421T162941
CREATED:20250317T212128Z
LAST-MODIFIED:20250317T212128Z
UID:6668-1746316800-1746403199@www.kerkzunderdorp.nl
SUMMARY:Kerkdienst met Jaap Haeck
DESCRIPTION:Op zondag 4 mei zal er om 10 uur een kerkdienst zijn met ds. Jaap Haeck.
URL:https://www.kerkzunderdorp.nl/agenda/kerkdienst-met-jaap-haeck/
CATEGORIES:Kerkdienst
ATTACH;FMTTYPE=image/jpeg:https://www.kerkzunderdorp.nl/wp-content/uploads/2023/11/JBZ_4199-scaled.jpg
END:VEVENT
BEGIN:VEVENT
DTSTART;VALUE=DATE:20250506
DTEND;VALUE=DATE:20250507
DTSTAMP:20260421T162941
CREATED:20250317T213810Z
LAST-MODIFIED:20250317T213810Z
UID:6694-1746489600-1746575999@www.kerkzunderdorp.nl
SUMMARY:Schoonmaken jeugdgebouw
DESCRIPTION:Op dinsdag 6 mei ben je vanaf 09.30 uur welkom voor het schoonmaken van het jeugdgebouw.
URL:https://www.kerkzunderdorp.nl/agenda/schoonmaken-jeugdgebouw-12/
CATEGORIES:Overig
END:VEVENT
BEGIN:VEVENT
DTSTART;VALUE=DATE:20250511
DTEND;VALUE=DATE:20250512
DTSTAMP:20260421T162941
CREATED:20250317T212224Z
LAST-MODIFIED:20250317T212224Z
UID:6670-1746921600-1747007999@www.kerkzunderdorp.nl
SUMMARY:Kerkdienst met ds. Pieter Boomsma
DESCRIPTION:Op zondag 11 mei zal er om 10 uur een kerkdienst zijn met ds. Pieter Boomsma.
URL:https://www.kerkzunderdorp.nl/agenda/kerkdienst-met-ds-pieter-boomsma-5/
CATEGORIES:Kerkdienst
ATTACH;FMTTYPE=image/jpeg:https://www.kerkzunderdorp.nl/wp-content/uploads/2024/11/Afbeelding-van-WhatsApp-op-2024-10-31-om-21.05.41_39ecbc69.jpg
END:VEVENT
BEGIN:VEVENT
DTSTART;VALUE=DATE:20250518
DTEND;VALUE=DATE:20250519
DTSTAMP:20260421T162941
CREATED:20250317T212316Z
LAST-MODIFIED:20250317T212940Z
UID:6672-1747526400-1747612799@www.kerkzunderdorp.nl
SUMMARY:Kerkdienst met Don Ceder
DESCRIPTION:Op zondag 18 mei zal er om 10 uur een kerkdienst zijn met Don Ceder.
URL:https://www.kerkzunderdorp.nl/agenda/kerkdienst-met-don-ceder-2/
CATEGORIES:Kerkdienst
ATTACH;FMTTYPE=image/jpeg:https://www.kerkzunderdorp.nl/wp-content/uploads/2024/11/Afbeelding-van-WhatsApp-op-2024-10-31-om-21.05.41_88b2638c.jpg
END:VEVENT
BEGIN:VEVENT
DTSTART;VALUE=DATE:20250521
DTEND;VALUE=DATE:20250522
DTSTAMP:20260421T162941
CREATED:20250317T213310Z
LAST-MODIFIED:20250317T213310Z
UID:6686-1747785600-1747871999@www.kerkzunderdorp.nl
SUMMARY:Koffie inloop
DESCRIPTION:Op woensdag 21 mei is er om 10.00 uur een koffie inloop.
URL:https://www.kerkzunderdorp.nl/agenda/koffie-inloop-16/
CATEGORIES:Overig
ATTACH;FMTTYPE=image/jpeg:https://www.kerkzunderdorp.nl/wp-content/uploads/2023/07/Koffie-inloop-2.jpg
END:VEVENT
BEGIN:VEVENT
DTSTART;VALUE=DATE:20250525
DTEND;VALUE=DATE:20250526
DTSTAMP:20260421T162941
CREATED:20250317T212423Z
LAST-MODIFIED:20250317T212423Z
UID:6674-1748131200-1748217599@www.kerkzunderdorp.nl
SUMMARY:Kerkdienst met ds. Niek Scholten
DESCRIPTION:Op zondag 25 mei zal er om 10 uur een kerkdienst zijn met ds. Niek Scholten.
URL:https://www.kerkzunderdorp.nl/agenda/kerkdienst-met-ds-niek-scholten-2/
CATEGORIES:Kerkdienst
ATTACH;FMTTYPE=image/jpeg:https://www.kerkzunderdorp.nl/wp-content/uploads/2023/11/JBZ_4199-scaled.jpg
END:VEVENT
BEGIN:VEVENT
DTSTART;VALUE=DATE:20250529
DTEND;VALUE=DATE:20250530
DTSTAMP:20260421T162941
CREATED:20250317T212514Z
LAST-MODIFIED:20250317T212514Z
UID:6676-1748476800-1748563199@www.kerkzunderdorp.nl
SUMMARY:Kerkdienst - Hemelvaart
DESCRIPTION:Op donderdag 29 mei zal er om 10 uur een kerkdienst zijn.
URL:https://www.kerkzunderdorp.nl/agenda/kerkdienst-hemelvaart/
CATEGORIES:Kerkdienst
ATTACH;FMTTYPE=image/jpeg:https://www.kerkzunderdorp.nl/wp-content/uploads/2024/11/Afbeelding-van-WhatsApp-op-2024-10-31-om-21.05.41_39ecbc69.jpg
END:VEVENT
END:VCALENDAR