BEGIN:VCALENDAR
VERSION:2.0
PRODID:-//Kerk van Zunderdorp - ECPv6.15.20//NONSGML v1.0//EN
CALSCALE:GREGORIAN
METHOD:PUBLISH
X-WR-CALNAME:Kerk van Zunderdorp
X-ORIGINAL-URL:https://www.kerkzunderdorp.nl
X-WR-CALDESC:Evenementen voor Kerk van Zunderdorp
REFRESH-INTERVAL;VALUE=DURATION:PT1H
X-Robots-Tag:noindex
X-PUBLISHED-TTL:PT1H
BEGIN:VTIMEZONE
TZID:Europe/Amsterdam
BEGIN:DAYLIGHT
TZOFFSETFROM:+0100
TZOFFSETTO:+0200
TZNAME:CEST
DTSTART:20240331T010000
END:DAYLIGHT
BEGIN:STANDARD
TZOFFSETFROM:+0200
TZOFFSETTO:+0100
TZNAME:CET
DTSTART:20241027T010000
END:STANDARD
BEGIN:DAYLIGHT
TZOFFSETFROM:+0100
TZOFFSETTO:+0200
TZNAME:CEST
DTSTART:20250330T010000
END:DAYLIGHT
BEGIN:STANDARD
TZOFFSETFROM:+0200
TZOFFSETTO:+0100
TZNAME:CET
DTSTART:20251026T010000
END:STANDARD
BEGIN:DAYLIGHT
TZOFFSETFROM:+0100
TZOFFSETTO:+0200
TZNAME:CEST
DTSTART:20260329T010000
END:DAYLIGHT
BEGIN:STANDARD
TZOFFSETFROM:+0200
TZOFFSETTO:+0100
TZNAME:CET
DTSTART:20261025T010000
END:STANDARD
END:VTIMEZONE
BEGIN:VEVENT
DTSTART;VALUE=DATE:20250706
DTEND;VALUE=DATE:20250707
DTSTAMP:20260421T175346
CREATED:20250603T192037Z
LAST-MODIFIED:20250603T192155Z
UID:6761-1751760000-1751846399@www.kerkzunderdorp.nl
SUMMARY:Vocaal Ensemble Dwarsklank
DESCRIPTION:
URL:https://www.kerkzunderdorp.nl/agenda/vocaal-ensemble-dwarsklank/
CATEGORIES:Kerk Zunderdorp
ATTACH;FMTTYPE=image/jpeg:https://www.kerkzunderdorp.nl/wp-content/uploads/2025/06/FlyerZomers2.jpg
END:VEVENT
BEGIN:VEVENT
DTSTART;VALUE=DATE:20250706
DTEND;VALUE=DATE:20250707
DTSTAMP:20260421T175347
CREATED:20250603T192400Z
LAST-MODIFIED:20250603T192400Z
UID:6764-1751760000-1751846399@www.kerkzunderdorp.nl
SUMMARY:Kerkdienst met ds. Mirjam Muis
DESCRIPTION:Op zondag 6 juli zal er om 10 uur een kerkdienst zijn met ds. Mirjam Muis.
URL:https://www.kerkzunderdorp.nl/agenda/kerkdienst-met-ds-mirjam-muis/
CATEGORIES:Kerkdienst
ATTACH;FMTTYPE=image/jpeg:https://www.kerkzunderdorp.nl/wp-content/uploads/2024/11/Afbeelding-van-WhatsApp-op-2024-10-31-om-21.05.41_88b2638c.jpg
END:VEVENT
BEGIN:VEVENT
DTSTART;VALUE=DATE:20250707
DTEND;VALUE=DATE:20250708
DTSTAMP:20260421T175347
CREATED:20250603T191518Z
LAST-MODIFIED:20250603T191518Z
UID:6755-1751846400-1751932799@www.kerkzunderdorp.nl
SUMMARY:Schoonmaak jeugdgebouw
DESCRIPTION:Op dinsdag 7 juli ben je vanaf 09.30 uur welkom voor het schoonmaken van het jeugdgebouw.
URL:https://www.kerkzunderdorp.nl/agenda/schoonmaak-jeugdgebouw-7/
CATEGORIES:Kerk Zunderdorp
END:VEVENT
BEGIN:VEVENT
DTSTART;VALUE=DATE:20250710
DTEND;VALUE=DATE:20250711
DTSTAMP:20260421T175347
CREATED:20250603T191330Z
LAST-MODIFIED:20250603T191330Z
UID:6753-1752105600-1752191999@www.kerkzunderdorp.nl
SUMMARY:Tieneravond
DESCRIPTION:Op donderdag 10 juli is er om 19.00 uur tieneravond.
URL:https://www.kerkzunderdorp.nl/agenda/tieneravond-3/
CATEGORIES:Kerk Zunderdorp
ATTACH;FMTTYPE=image/jpeg:https://www.kerkzunderdorp.nl/wp-content/uploads/2025/03/Tieneravond.jpg
END:VEVENT
BEGIN:VEVENT
DTSTART;VALUE=DATE:20250713
DTEND;VALUE=DATE:20250714
DTSTAMP:20260421T175347
CREATED:20250603T192503Z
LAST-MODIFIED:20250706T155452Z
UID:6766-1752364800-1752451199@www.kerkzunderdorp.nl
SUMMARY:Kerkdienst met Eveline Schot
DESCRIPTION:Op zondag 13 juli zal er om 10 uur een kerkdienst zijn met Eveline Schot.
URL:https://www.kerkzunderdorp.nl/agenda/kerkdienst-met-ds-eveline-schot/
CATEGORIES:Kerkdienst
ATTACH;FMTTYPE=image/jpeg:https://www.kerkzunderdorp.nl/wp-content/uploads/2024/11/Afbeelding-van-WhatsApp-op-2024-10-31-om-21.05.41_39ecbc69.jpg
END:VEVENT
BEGIN:VEVENT
DTSTART;VALUE=DATE:20250716
DTEND;VALUE=DATE:20250717
DTSTAMP:20260421T175347
CREATED:20250603T190912Z
LAST-MODIFIED:20250603T190912Z
UID:6744-1752624000-1752710399@www.kerkzunderdorp.nl
SUMMARY:Koffie inloop
DESCRIPTION:Op woensdag 16 juli is er om 10.00 uur een koffie inloop.
URL:https://www.kerkzunderdorp.nl/agenda/koffie-inloop-18/
CATEGORIES:Kerk Zunderdorp
ATTACH;FMTTYPE=image/jpeg:https://www.kerkzunderdorp.nl/wp-content/uploads/2023/07/Koffie-inloop-2.jpg
END:VEVENT
BEGIN:VEVENT
DTSTART;VALUE=DATE:20250720
DTEND;VALUE=DATE:20250721
DTSTAMP:20260421T175347
CREATED:20250603T192602Z
LAST-MODIFIED:20250616T201650Z
UID:6768-1752969600-1753055999@www.kerkzunderdorp.nl
SUMMARY:Kerkdienst met Maarten Kruimer
DESCRIPTION:Op zondag 20 juli zal er om 10 uur een kerkdienst zijn met Maarten Kruimer.
URL:https://www.kerkzunderdorp.nl/agenda/kerkdienst-met-jefren-mesa/
CATEGORIES:Kerkdienst
ATTACH;FMTTYPE=image/jpeg:https://www.kerkzunderdorp.nl/wp-content/uploads/2023/11/JBZ_4199-scaled.jpg
END:VEVENT
BEGIN:VEVENT
DTSTART;VALUE=DATE:20250727
DTEND;VALUE=DATE:20250728
DTSTAMP:20260421T175347
CREATED:20250603T192656Z
LAST-MODIFIED:20250603T192712Z
UID:6770-1753574400-1753660799@www.kerkzunderdorp.nl
SUMMARY:Kerkdienst met Rozelinde Hoogendijk
DESCRIPTION:Op zondag 27 juli zal er om 10 uur een kerkdienst zijn met Rozelinde Hoogendijk.
URL:https://www.kerkzunderdorp.nl/agenda/kerkdienst-met-rozeline-hoogendijk/
CATEGORIES:Kerkdienst
ATTACH;FMTTYPE=image/jpeg:https://www.kerkzunderdorp.nl/wp-content/uploads/2024/11/Afbeelding-van-WhatsApp-op-2024-10-31-om-21.05.41_88b2638c.jpg
END:VEVENT
END:VCALENDAR