BEGIN:VCALENDAR
VERSION:2.0
PRODID:-//Kerk van Zunderdorp - ECPv6.15.20//NONSGML v1.0//EN
CALSCALE:GREGORIAN
METHOD:PUBLISH
X-WR-CALNAME:Kerk van Zunderdorp
X-ORIGINAL-URL:https://www.kerkzunderdorp.nl
X-WR-CALDESC:Evenementen voor Kerk van Zunderdorp
REFRESH-INTERVAL;VALUE=DURATION:PT1H
X-Robots-Tag:noindex
X-PUBLISHED-TTL:PT1H
BEGIN:VTIMEZONE
TZID:Europe/Amsterdam
BEGIN:DAYLIGHT
TZOFFSETFROM:+0100
TZOFFSETTO:+0200
TZNAME:CEST
DTSTART:20240331T010000
END:DAYLIGHT
BEGIN:STANDARD
TZOFFSETFROM:+0200
TZOFFSETTO:+0100
TZNAME:CET
DTSTART:20241027T010000
END:STANDARD
BEGIN:DAYLIGHT
TZOFFSETFROM:+0100
TZOFFSETTO:+0200
TZNAME:CEST
DTSTART:20250330T010000
END:DAYLIGHT
BEGIN:STANDARD
TZOFFSETFROM:+0200
TZOFFSETTO:+0100
TZNAME:CET
DTSTART:20251026T010000
END:STANDARD
BEGIN:DAYLIGHT
TZOFFSETFROM:+0100
TZOFFSETTO:+0200
TZNAME:CEST
DTSTART:20260329T010000
END:DAYLIGHT
BEGIN:STANDARD
TZOFFSETFROM:+0200
TZOFFSETTO:+0100
TZNAME:CET
DTSTART:20261025T010000
END:STANDARD
END:VTIMEZONE
BEGIN:VEVENT
DTSTART;VALUE=DATE:20250901
DTEND;VALUE=DATE:20250902
DTSTAMP:20260423T065014
CREATED:20250603T191649Z
LAST-MODIFIED:20250603T191649Z
UID:6759-1756684800-1756771199@www.kerkzunderdorp.nl
SUMMARY:Schoonmaak jeugdgebouw
DESCRIPTION:Op dinsdag 1 september ben je vanaf 09.30 uur welkom voor het schoonmaken van het jeugdgebouw.
URL:https://www.kerkzunderdorp.nl/agenda/schoonmaak-jeugdgebouw-9/
CATEGORIES:Kerk Zunderdorp
END:VEVENT
BEGIN:VEVENT
DTSTART;VALUE=DATE:20250907
DTEND;VALUE=DATE:20250908
DTSTAMP:20260423T065014
CREATED:20250603T193241Z
LAST-MODIFIED:20250603T193241Z
UID:6784-1757203200-1757289599@www.kerkzunderdorp.nl
SUMMARY:Kerkdienst met Dirk Punt - Startzondag
DESCRIPTION:Op zondag 7 september zal er om 10 uur een kerkdienst zijn met Dirk Punt.
URL:https://www.kerkzunderdorp.nl/agenda/kerkdienst-met-dirk-punt-startzondag/
CATEGORIES:Kerkdienst
ATTACH;FMTTYPE=image/jpeg:https://www.kerkzunderdorp.nl/wp-content/uploads/2023/11/JBZ_4199-scaled.jpg
END:VEVENT
BEGIN:VEVENT
DTSTART;VALUE=DATE:20250911
DTEND;VALUE=DATE:20250912
DTSTAMP:20260423T065014
CREATED:20250930T135534Z
LAST-MODIFIED:20250930T135534Z
UID:6870-1757548800-1757635199@www.kerkzunderdorp.nl
SUMMARY:Tieneravond
DESCRIPTION:Op donderdag 11 september is er om 19.00 uur tieneravond.
URL:https://www.kerkzunderdorp.nl/agenda/tieneravond-4/
CATEGORIES:Kerk Zunderdorp
END:VEVENT
BEGIN:VEVENT
DTSTART;VALUE=DATE:20250914
DTEND;VALUE=DATE:20250915
DTSTAMP:20260423T065014
CREATED:20250603T193323Z
LAST-MODIFIED:20250603T193323Z
UID:6786-1757808000-1757894399@www.kerkzunderdorp.nl
SUMMARY:Kerkdienst met Cor Ofman
DESCRIPTION:Op zondag 14 september zal er om 10 uur een kerkdienst zijn met Cor Ofman.
URL:https://www.kerkzunderdorp.nl/agenda/kerkdienst-met-cor-ofman-8/
CATEGORIES:Kerkdienst
ATTACH;FMTTYPE=image/jpeg:https://www.kerkzunderdorp.nl/wp-content/uploads/2024/11/Afbeelding-van-WhatsApp-op-2024-10-31-om-21.05.41_88b2638c.jpg
END:VEVENT
BEGIN:VEVENT
DTSTART;VALUE=DATE:20250917
DTEND;VALUE=DATE:20250918
DTSTAMP:20260423T065014
CREATED:20250603T191042Z
LAST-MODIFIED:20250603T191042Z
UID:6748-1758067200-1758153599@www.kerkzunderdorp.nl
SUMMARY:Koffie inloop
DESCRIPTION:Op woensdag 17 september is er om 10.00 uur een koffie inloop.
URL:https://www.kerkzunderdorp.nl/agenda/koffie-inloop-20/
CATEGORIES:Kerk Zunderdorp
ATTACH;FMTTYPE=image/jpeg:https://www.kerkzunderdorp.nl/wp-content/uploads/2023/07/Koffie-inloop-2.jpg
END:VEVENT
BEGIN:VEVENT
DTSTART;VALUE=DATE:20250921
DTEND;VALUE=DATE:20250922
DTSTAMP:20260423T065014
CREATED:20250603T193451Z
LAST-MODIFIED:20250603T193451Z
UID:6788-1758412800-1758499199@www.kerkzunderdorp.nl
SUMMARY:Kerkdienst met Tamar Karman
DESCRIPTION:Op zondag 21 september zal er om 10 uur een kerkdienst zijn met Tamar Karman.
URL:https://www.kerkzunderdorp.nl/agenda/kerkdienst-met-tamar-karman-2/
CATEGORIES:Kerkdienst
ATTACH;FMTTYPE=image/jpeg:https://www.kerkzunderdorp.nl/wp-content/uploads/2024/11/Afbeelding-van-WhatsApp-op-2024-10-31-om-21.05.41_39ecbc69.jpg
END:VEVENT
BEGIN:VEVENT
DTSTART;VALUE=DATE:20250923
DTEND;VALUE=DATE:20250924
DTSTAMP:20260423T065014
CREATED:20250922T184132Z
LAST-MODIFIED:20250922T184132Z
UID:6821-1758585600-1758671999@www.kerkzunderdorp.nl
SUMMARY:Gespreksavond - Verhalen die je raken
DESCRIPTION:Welk verhaal uit de Bijbel spreekt jou aan\, of juist helemaal niet? Welk verhaal vind je mooi\,\ninspirerend of misschien zelfs een beetje vreemd? \nTijdens deze avond gaan we er samen over in gesprek. Je kunt een Bijbelverhaal meenemen\ndat jou raakt\, nieuwsgierig maakt of vragen oproept\, en vertellen waarom. Maar gewoon\nluisteren en meedoen in het gesprek mag natuurlijk ook. Na een korte koffi epauze praten we er\nverder over—open en ongedwongen. We sluiten af rond half tien met een drankje en gezellig\nnapraten. \nDe eerste avond is op dinsdag 23 september om 20.00 uur in het Jeugdgebouw.\nPiet van Meerveld trapt af met het verhaal van de barmhartige Samaritaan (Lukas 10:25-37).\nOf je nu bekend bent met de Bijbel of er nog nooit iets van hebt gelezen: iedereen is welkom!
URL:https://www.kerkzunderdorp.nl/agenda/gespreksavond-verhalen-die-je-raken/
CATEGORIES:Kerk Zunderdorp
END:VEVENT
BEGIN:VEVENT
DTSTART;VALUE=DATE:20250928
DTEND;VALUE=DATE:20250929
DTSTAMP:20260423T065014
CREATED:20250603T193541Z
LAST-MODIFIED:20250922T184447Z
UID:6790-1759017600-1759103999@www.kerkzunderdorp.nl
SUMMARY:Kerkdienst met ds. Mirjam Muis
DESCRIPTION:Op zondag 28 september zal er om 10 uur een kerkdienst zijn met ds. Mirjam Muis.
URL:https://www.kerkzunderdorp.nl/agenda/kerkdienst-met-alex-de-vreugd/
CATEGORIES:Kerkdienst
END:VEVENT
END:VCALENDAR