BEGIN:VCALENDAR
VERSION:2.0
PRODID:-//Kerk van Zunderdorp - ECPv6.15.20//NONSGML v1.0//EN
CALSCALE:GREGORIAN
METHOD:PUBLISH
X-ORIGINAL-URL:https://www.kerkzunderdorp.nl
X-WR-CALDESC:Evenementen voor Kerk van Zunderdorp
REFRESH-INTERVAL;VALUE=DURATION:PT1H
X-Robots-Tag:noindex
X-PUBLISHED-TTL:PT1H
BEGIN:VTIMEZONE
TZID:Europe/Amsterdam
BEGIN:DAYLIGHT
TZOFFSETFROM:+0100
TZOFFSETTO:+0200
TZNAME:CEST
DTSTART:20240331T010000
END:DAYLIGHT
BEGIN:STANDARD
TZOFFSETFROM:+0200
TZOFFSETTO:+0100
TZNAME:CET
DTSTART:20241027T010000
END:STANDARD
BEGIN:DAYLIGHT
TZOFFSETFROM:+0100
TZOFFSETTO:+0200
TZNAME:CEST
DTSTART:20250330T010000
END:DAYLIGHT
BEGIN:STANDARD
TZOFFSETFROM:+0200
TZOFFSETTO:+0100
TZNAME:CET
DTSTART:20251026T010000
END:STANDARD
BEGIN:DAYLIGHT
TZOFFSETFROM:+0100
TZOFFSETTO:+0200
TZNAME:CEST
DTSTART:20260329T010000
END:DAYLIGHT
BEGIN:STANDARD
TZOFFSETFROM:+0200
TZOFFSETTO:+0100
TZNAME:CET
DTSTART:20261025T010000
END:STANDARD
END:VTIMEZONE
BEGIN:VEVENT
DTSTART;VALUE=DATE:20251102
DTEND;VALUE=DATE:20251103
DTSTAMP:20260425T215937
CREATED:20250930T134212Z
LAST-MODIFIED:20251027T160415Z
UID:6842-1762041600-1762127999@www.kerkzunderdorp.nl
SUMMARY:Kerkdienst met Anna Maria van Willigen
DESCRIPTION:Op zondag 2 november zal er om 10 uur een kerkdienst zijn met Anna Maria van Willigen.
URL:https://www.kerkzunderdorp.nl/agenda/kerkdienst-met-anne-maria-van-willigen/
CATEGORIES:Kerkdienst
END:VEVENT
BEGIN:VEVENT
DTSTART;VALUE=DATE:20251102
DTEND;VALUE=DATE:20251103
DTSTAMP:20260425T215937
CREATED:20250930T135358Z
LAST-MODIFIED:20250930T135358Z
UID:6868-1762041600-1762127999@www.kerkzunderdorp.nl
SUMMARY:Kliederkerk
DESCRIPTION:Op zondag 2 november is er om 12 uur kliederkerk.
URL:https://www.kerkzunderdorp.nl/agenda/kliederkerk-10/
CATEGORIES:Kerk Zunderdorp
END:VEVENT
BEGIN:VEVENT
DTSTART;VALUE=DATE:20251105
DTEND;VALUE=DATE:20251106
DTSTAMP:20260425T215937
CREATED:20250930T134312Z
LAST-MODIFIED:20251014T193809Z
UID:6844-1762300800-1762387199@www.kerkzunderdorp.nl
SUMMARY:Kerkdienst met ds. Leon van den Dool - Biddag voor gewas en arbeid
DESCRIPTION:Op woensdag 5 november zal er om 19.30 uur een kerkdienst zijn met ds. Leon van den Dool.
URL:https://www.kerkzunderdorp.nl/agenda/kerkdienst-met-ds-jaap-haeck-2/
CATEGORIES:Kerkdienst
END:VEVENT
BEGIN:VEVENT
DTSTART;VALUE=DATE:20251105
DTEND;VALUE=DATE:20251106
DTSTAMP:20260425T215937
CREATED:20250930T135102Z
LAST-MODIFIED:20250930T135102Z
UID:6861-1762300800-1762387199@www.kerkzunderdorp.nl
SUMMARY:Schoonmaak Jeugdgebouw
DESCRIPTION:Op woensdag 5 november ben je vanaf 09.30 uur welkom voor het schoonmaken van het jeugdgebouw.
URL:https://www.kerkzunderdorp.nl/agenda/schoonmaak-jeugdgebouw-11/
CATEGORIES:Kerk Zunderdorp
END:VEVENT
BEGIN:VEVENT
DTSTART;VALUE=DATE:20251109
DTEND;VALUE=DATE:20251110
DTSTAMP:20260425T215937
CREATED:20250930T134358Z
LAST-MODIFIED:20250930T134358Z
UID:6846-1762646400-1762732799@www.kerkzunderdorp.nl
SUMMARY:Kerkdienst met ds. Cor Ofman
DESCRIPTION:Op zondag 9 november zal er om 10 uur een kerkdienst zijn met ds. Cor Ofman.
URL:https://www.kerkzunderdorp.nl/agenda/kerkdienst-met-ds-cor-ofman/
CATEGORIES:Kerkdienst
END:VEVENT
BEGIN:VEVENT
DTSTART;VALUE=DATE:20251113
DTEND;VALUE=DATE:20251114
DTSTAMP:20260425T215937
CREATED:20250930T135658Z
LAST-MODIFIED:20250930T140212Z
UID:6874-1762992000-1763078399@www.kerkzunderdorp.nl
SUMMARY:Tieneravond
DESCRIPTION:Op donderdag 13 november is er om 19.00 uur tieneravond.
URL:https://www.kerkzunderdorp.nl/agenda/tieneravond-6/
CATEGORIES:Kerk Zunderdorp
END:VEVENT
BEGIN:VEVENT
DTSTART;VALUE=DATE:20251116
DTEND;VALUE=DATE:20251117
DTSTAMP:20260425T215937
CREATED:20250930T134451Z
LAST-MODIFIED:20250930T140155Z
UID:6848-1763251200-1763337599@www.kerkzunderdorp.nl
SUMMARY:Kerkdienst met ds. Peter Verhoeff
DESCRIPTION:Op zondag 16 november zal er om 10 uur een kerkdienst zijn met ds. Peter Verhoeff
URL:https://www.kerkzunderdorp.nl/agenda/kerkdienst-met-ds-pieter-verhoeff/
CATEGORIES:Kerkdienst
END:VEVENT
BEGIN:VEVENT
DTSTART;VALUE=DATE:20251119
DTEND;VALUE=DATE:20251120
DTSTAMP:20260425T215937
CREATED:20250930T135315Z
LAST-MODIFIED:20250930T135315Z
UID:6866-1763510400-1763596799@www.kerkzunderdorp.nl
SUMMARY:Koffie inloop
DESCRIPTION:Op woensdag 19 november is er om 10.00 uur een koffie inloop.
URL:https://www.kerkzunderdorp.nl/agenda/koffie-inloop-22/
CATEGORIES:Kerk Zunderdorp
END:VEVENT
BEGIN:VEVENT
DTSTART;VALUE=DATE:20251120
DTEND;VALUE=DATE:20251121
DTSTAMP:20260425T215937
CREATED:20251117T201936Z
LAST-MODIFIED:20251117T203452Z
UID:6931-1763596800-1763683199@www.kerkzunderdorp.nl
SUMMARY:Tieneravond
DESCRIPTION:Tieners tussen 12 en 18 jaar\, opgelet! We hebben zo’n leuke tienergroep in Zunderdorp met tieners uit verschillende dorpen. Kom gezellig eens een keer kijken.\nElke tieneravond is er lekker eten\, spel\, gezelligheid en mooie gesprekken. Het zijn ook avonden waarbij je tieners uit andere dorpen ontmoet en nieuwe vrienden kunt maken.\nOp donderdag 20 november vieren we pakjesavond met een leuk spel. Vergeet niet om twee kleine cadeautjes mee te nemen van maximaal 5 euro.\nWil je een keer langskomen? Leuk! De tieneravond is van 19:00-21:30 uur. Meld je aan bij Anne-marie via 06 4208 1177 of stuur een e-mail naar info@kerkzunderdorp.nl.
URL:https://www.kerkzunderdorp.nl/agenda/tieneravond-7/
CATEGORIES:Overig
ATTACH;FMTTYPE=image/jpeg:https://www.kerkzunderdorp.nl/wp-content/uploads/2025/03/Tieneravond.jpg
END:VEVENT
BEGIN:VEVENT
DTSTART;VALUE=DATE:20251123
DTEND;VALUE=DATE:20251124
DTSTAMP:20260425T215937
CREATED:20250930T134545Z
LAST-MODIFIED:20250930T134545Z
UID:6850-1763856000-1763942399@www.kerkzunderdorp.nl
SUMMARY:Kerkdienst met Tamar Karman - Gedachteniszondag
DESCRIPTION:Op zondag 23 november zal er om 10 uur een kerkdienst zijn met Tamar Karman.
URL:https://www.kerkzunderdorp.nl/agenda/kerkdienst-met-tamar-karman-gedachteniszondag/
CATEGORIES:Kerkdienst
END:VEVENT
BEGIN:VEVENT
DTSTART;VALUE=DATE:20251123
DTEND;VALUE=DATE:20251124
DTSTAMP:20260425T215937
CREATED:20251117T202102Z
LAST-MODIFIED:20251117T203521Z
UID:6933-1763856000-1763942399@www.kerkzunderdorp.nl
SUMMARY:Sint Pannekoek
DESCRIPTION:Herinner je het nog van vorig jaar? Toen we allemaal een pannenkoek op ons hoofd deden? Het was een gezellig feest met veel kinderen\, ouders\, kerkvrienden en dorpsgenoten. Ook dit jaar is het feest van 11:30 tot 12:30\nuur in het Jeugdgebouw. We doen tijdens deze zondag ook iets bijzonders voor Actie Schoenendoos. We vragen aan alle kinderen of ze iets van hun speelgoed willen delen met een kind in een arm land.\nTijdens Sint Pannekoek is er natuurlijk ook weer de jaarlijkse bingo! Het wordt een mooi feest met samen eten\, samen vieren én iets betekenen voor anderen. Iedereen is van harte uitgenodigd. Aanmelden kan bij Anne-marie via 06 4208 1177 of info@kerkzunderdorp.nl.
URL:https://www.kerkzunderdorp.nl/agenda/sint-pannekoek-4/
CATEGORIES:Overig
ATTACH;FMTTYPE=image/jpeg:https://www.kerkzunderdorp.nl/wp-content/uploads/2023/11/WhatsApp-Image-2023-11-26-at-13.22.43.jpeg
END:VEVENT
BEGIN:VEVENT
DTSTART;VALUE=DATE:20251130
DTEND;VALUE=DATE:20251201
DTSTAMP:20260425T215937
CREATED:20250930T134646Z
LAST-MODIFIED:20250930T134646Z
UID:6852-1764460800-1764547199@www.kerkzunderdorp.nl
SUMMARY:Kerkdienst met Theodoor Meedendorp - Heilig Avondmaal
DESCRIPTION:Op zondag 30 november zal er om 10 uur een kerkdienst zijn met Theodoor Meedendorp.
URL:https://www.kerkzunderdorp.nl/agenda/kerkdienst-met-theodoor-meedendorp-heilig-avondmaal/
CATEGORIES:Kerkdienst
END:VEVENT
END:VCALENDAR